BEGIN:VCALENDAR
VERSION:2.0
PRODID:-//wp-events-plugin.com//7.2.3.1//EN
TZID:Australia/Sydney
X-WR-TIMEZONE:Australia/Sydney
BEGIN:VEVENT
UID:3523@unswoc.org
DTSTART;TZID=Australia/Sydney;VALUE=DATE:20250125
DTEND;TZID=Australia/Sydney;VALUE=DATE:20250126
DTSTAMP:20250124T105514Z
URL:https://unswoc.org/wordpress/events/canyoning-tlit-workshop/
SUMMARY:Canyoning TLIT Workshop
DESCRIPTION:Quick canyon to practice some skills. Whungee wheengee canyon
CATEGORIES:Canyoning
LOCATION:https://www.google.com/maps/place/Mount+Wilson+NSW+2786/@-33.50396
 15,150.3730151,14z/data=!3m1!4b1!4m6!3m5!1s0x6b0d87e2713babbd:0x5017d68163
 347c0!8m2!3d-33.502929!4d150.3888589!16s%2Fm%2F02rkb32?entry=ttu&g_ep=Egoy
 MDI1MDEyMS4wIKXMDSoASAFQAw%3D%3D
END:VEVENT
BEGIN:VTIMEZONE
TZID:Australia/Sydney
X-LIC-LOCATION:Australia/Sydney
BEGIN:DAYLIGHT
DTSTART:20241006T030000
TZOFFSETFROM:+1000
TZOFFSETTO:+1100
TZNAME:AEDT
END:DAYLIGHT
END:VTIMEZONE
END:VCALENDAR