BEGIN:VCALENDAR
VERSION:2.0
PRODID:-//wp-events-plugin.com//7.2.3.1//EN
TZID:Australia/Sydney
X-WR-TIMEZONE:Australia/Sydney
BEGIN:VEVENT
UID:2253@unswoc.org
DTSTART;VALUE=DATE:20180513
DTEND;VALUE=DATE:20180514
DTSTAMP:20180509T075459Z
URL:https://unswoc.org/wordpress/events/canyoning-sunday-tiger-snake-canyo
 n/
SUMMARY:Canyoning Sunday - Tiger Snake canyon
DESCRIPTION:Hey guys :)\n\nJenny Stansby and I will be leading Tiger Snake 
 canyon on Sunday. It is beginner friendly\, and mostly dry (unlikely to ge
 t wet past your thigh).\n\nI'm opening only 3 spots to begin with but will
  open more if someone with a car signs up\n\nIf you're interested in comin
 g\, please PM us both with:\n\n 	Do you have a car (and if you don't have 
 a car\, if you can help with driving or not)\n 	Experience level (canyonin
 g/abseiling experience)\n\nhttp://ozultimate.com/canyoning/track_notes/tig
 er_snake.htm\n\nWhat to bring (first two bullet points you can collect at 
 gear night\, other items you have to source yourself):\n\n 	Harness\, helm
 et\n 	ATC\, safety sling\, at least 1 prussik\, 3X locker biners\n 	Wear t
 hermal leggings at least (If you have thin wet suit pants I find that work
 s well too)\n 	Closed shoes and woollen socks (or wetsuit socks)\n 	A rain
  jacket/windbreaker to help reduce heat loss\n 	In a dry bag: Extra dry th
 ermals (plus maybe a fleece/light jacket)\, extra woollen socks and beanie
  - it's going to be COOOLD (max of 14deg\, min of 2deg!)\n 	Food and water
  for a full day\n 	Headtorch (you can get cheap headtorches from Anaconda 
 or maybe Decathalon\, and better quality ones from Climbing anchors)\n 	Al
 l this should fit in your own backpack with extra space to help carry rope
 \n\n&nbsp\;
CATEGORIES:Canyoning
END:VEVENT
END:VCALENDAR