BEGIN:VCALENDAR
VERSION:2.0
PRODID:-//wp-events-plugin.com//7.2.3.1//EN
TZID:Australia/Sydney
X-WR-TIMEZONE:Australia/Sydney
BEGIN:VEVENT
UID:2167@unswoc.org
DTSTART:20170825T200000Z
DTEND:20170826T080000Z
DTSTAMP:20170823T120410Z
URL:https://unswoc.org/wordpress/events/canyoning-saturday/
SUMMARY:Canyoning this Saturday!
DESCRIPTION:Dear Outdoorsy People\,\n\nLast minute beginner-friendly trip! 
 If you're willing and able and super-keen\, come canyoning this Saturday! 
 The plan is to do Tiger Snake - check out info at the following URL:\n\nht
 tp://ozultimate.com/canyoning/track_notes/tiger_snake.htm\n\nWhile this is
  a beginner-friendly trip\, you still need to have a good level of fitness
  - you'll be walking for a good 8 hours\, including scrambling on rocks an
 d carrying a pack up a big hill. There will also be abseiling\, confined s
 paces and wet feet or even a shallow wade. You'll need all of the gear des
 cribed below - if you need to borrow from the club we'll have to try and w
 ork out a time to get access to the gear cupboard.\n\nIf you're not sure w
 hat canyoning is\, check out the awesome info some lovely UNSWOCer has put
  up here: http://unswoc.org/wordpress/sports/canyoning/\n\nRequired gear:
 \n\n	helmet\n	harness\n	abeiling device (figure 8\, ATC\, other)\n	hiking 
 clothes (boardshorts also work fine - no jeans or any other cotton clothin
 g)\n	closed-toe shoes with good grip that can get wet and dirty (Dunlop vo
 lleys are a good option as they are cheap and have really good grip)\n	1L 
 water bottle\n	lunch and snacks - it's a long day and you'll need the ener
 gy!\n	thermals/fleece jumper and a beanie (no cotton!)\n	rain jacket\n	soc
 ks (thick hiking socks work best with wet feet)\n	headtorch if you have on
 e\n	a dad joke to share\n\n&nbsp\;\n\n&nbsp\;
CATEGORIES:Canyoning
END:VEVENT
END:VCALENDAR