BEGIN:VCALENDAR
VERSION:2.0
PRODID:-//wp-events-plugin.com//7.2.3.1//EN
TZID:Australia/Sydney
X-WR-TIMEZONE:Australia/Sydney
BEGIN:VEVENT
UID:3299@unswoc.org
DTSTART;TZID=Australia/Sydney:20230810T180000
DTEND;TZID=Australia/Sydney:20230810T200000
DTSTAMP:20230808T112123Z
URL:https://unswoc.org/wordpress/events/canyoning-rigging-workshop-the-led
 ge/
SUMMARY:Canyoning Rigging Workshop @ The Ledge
DESCRIPTION:Hi everyone\,\n\nLuke and myself will be running a canyoning wo
 rkshop this Thursday at the ledge. Starts at 6pm.\n\nIf you want to upskil
 l before the canyoning season starts\, are attending the Malaita Pt trip o
 n Sunday\, or are thinking about joining the proposed Kanangra trip later 
 term 3 or in the summer I would highly recommend coming!\nEight contingenc
 y block\nVideo demonstration\nMunter mule overhand\nVideo demonstration\nE
 ight mule overhand\nVideo demonstration\nKnot block\nVideo demonstration\n
 Biner block\nVideo demonstration\n\n&nbsp\;\n\nIn the comments leave any c
 anyoning experience you have\, what you want to learn\, and if you have ha
 d a look at the prelearning above.\n\n&nbsp\;\n\nThanks\, see you there.
CATEGORIES:Canyoning
LOCATION:https://www.google.com/maps/place/Malaita+Lookout/@-33.7328075,150
 .2976346,18.19z/data=!4m9!1m2!2m1!1seaglehawk+lookout!3m5!1s0x6b126c00dbc9
 756f:0xd1f8851772f26b8a!8m2!3d-33.7329289!4d150.2989742!16s%2Fg%2F11c75181
 02?entry=ttu
END:VEVENT
BEGIN:VTIMEZONE
TZID:Australia/Sydney
X-LIC-LOCATION:Australia/Sydney
BEGIN:STANDARD
DTSTART:20230402T020000
TZOFFSETFROM:+1100
TZOFFSETTO:+1000
TZNAME:AEST
END:STANDARD
END:VTIMEZONE
END:VCALENDAR