BEGIN:VCALENDAR
VERSION:2.0
PRODID:-//wp-events-plugin.com//7.2.3.1//EN
TZID:Australia/Sydney
X-WR-TIMEZONE:Australia/Sydney
BEGIN:VEVENT
UID:3240@unswoc.org
DTSTART;TZID=Australia/Sydney:20230316T180000
DTEND;TZID=Australia/Sydney:20230316T200000
DTSTAMP:20230313T013437Z
URL:https://unswoc.org/wordpress/events/canyoning-rigging-workshop-at-the-
 ledge/
SUMMARY:Canyoning Rigging Workshop at The Ledge
DESCRIPTION:Hi all 👋\n\nMilly and I are running a canyoning rigging work
 shop at the ledge this Thursday\, perfect for people who are considering l
 eading canyons in the future\, want to learn better techniques to abseil o
 ff multipitches\, or just people who have gone on a canyon before and want
  to progress!\n\n&nbsp\;\n\nWe will be covering:\n\n 	Types of anchors\n 	
 Assessing anchors\n 	Releasable abseil systems\n 	Double rope and single r
 ope techniques\n 	Anything else you have questions on!\n\nHope to see you 
 all there\, all skill levels welcome!\n\nLet us know what you'd like to le
 arn about or why you want to come along in the comments so we know you've 
 read this far.\n\n&nbsp\;\n\n&nbsp\;\n\n&nbsp\;\n\n&nbsp\;
CATEGORIES:Abseiling,Canyoning
END:VEVENT
BEGIN:VTIMEZONE
TZID:Australia/Sydney
X-LIC-LOCATION:Australia/Sydney
BEGIN:DAYLIGHT
DTSTART:20221002T030000
TZOFFSETFROM:+1000
TZOFFSETTO:+1100
TZNAME:AEDT
END:DAYLIGHT
END:VTIMEZONE
END:VCALENDAR