BEGIN:VCALENDAR
VERSION:2.0
PRODID:-//wp-events-plugin.com//7.2.3.1//EN
TZID:Australia/Sydney
X-WR-TIMEZONE:Australia/Sydney
BEGIN:VEVENT
UID:327@unswoc.org
DTSTART:20140131T060000Z
DTEND:20140202T060000Z
DTSTAMP:20140127T085504Z
URL:https://unswoc.org/wordpress/events/canyoning-bungonia/
SUMMARY:Canyoning in Bungonia
DESCRIPTION:Hi All\,\n\nA number of us are going down to Bungonia to do a f
 ew canyons. We would like to teach a number of people to become trip leade
 rs this weekend\, so if you are interested feel free to sign up. Even if y
 ou don't want to be a trip leader but still would be keen to do a Bungonia
  canyon feel free to come along anyway. The canyons will be relatively dif
 ficult and anyone planning on coming along must be competent on abseil. Th
 ere will also be a climbing trip and potentially a caving trip running at 
 the same time.\n\nCheers\,\n\nKylie\n\nFor any questions feel free to mess
 age me 0422976824.
LOCATION:\, \, 
X-APPLE-STRUCTURED-LOCATION;VALUE=URI;X-ADDRESS=\, ;X-APPLE-RADIUS=100;X-TI
 TLE=:geo:0,0
END:VEVENT
END:VCALENDAR