BEGIN:VCALENDAR
VERSION:2.0
PRODID:-//wp-events-plugin.com//7.2.3.1//EN
TZID:Australia/Sydney
X-WR-TIMEZONE:Australia/Sydney
BEGIN:VEVENT
UID:1991@unswoc.org
DTSTART;VALUE=DATE:20160319
DTEND;VALUE=DATE:20160320
DTSTAMP:20160316T140421Z
URL:https://unswoc.org/wordpress/events/canyoning-bowens-creek-north-branc
 h-upper-section/
SUMMARY:Canyoning - Bowens Creek\, North Branch\, Upper Section
DESCRIPTION:http://ozultimate.com/canyoning/track_notes/lower_bowens_creek_
 north.htm
CATEGORIES:Canyoning
END:VEVENT
END:VCALENDAR