BEGIN:VCALENDAR
VERSION:2.0
PRODID:-//wp-events-plugin.com//7.2.3.1//EN
TZID:Australia/Sydney
X-WR-TIMEZONE:Australia/Sydney
BEGIN:VEVENT
UID:2293@unswoc.org
DTSTART;VALUE=DATE:20181006
DTEND;VALUE=DATE:20181007
DTSTAMP:20181003T051852Z
URL:https://unswoc.org/wordpress/events/canyon-tbc-blue-mountains/
SUMMARY:Canyon Saturday Blue mountains
DESCRIPTION:Hola Amigos\nCanyon this Saturday. Canyon TBC\n\nPlease PM/emai
 l me with 1) phone number\, 2) whether u have a car and are willing to dri
 ve\, 3) previous canyoning experience\n\nThings to bring:\n\n 	harness**\n
  	helmet**\n 	atc + biner**\n 	wetsuits**\n 	backpack that can get wet\n 	
 Woollen socks (no cotton!)\n 	Optional: thermals to wear under your wetsui
 t\n 	headtorch\n 	old shorts to protect wetsuit\n 	drybag\n 	runners that 
 may get trashed\n 	petrol money\n 	at least 1.5L of water\n 	Lunch\n 	Snac
 ks\n 	Adventure spirit and heaps of good mood!**\n 	**you can get this fro
 m the club on gear night\n 	and some spare clothes to wear home in the car
  in case others get wet – don’t forget a jumper!\n\n&nbsp\;
CATEGORIES:Canyoning
END:VEVENT
END:VCALENDAR