BEGIN:VCALENDAR
VERSION:2.0
PRODID:-//wp-events-plugin.com//7.2.3.1//EN
TZID:Australia/Sydney
X-WR-TIMEZONE:Australia/Sydney
BEGIN:VEVENT
UID:3294@unswoc.org
DTSTART;TZID=Australia/Sydney:20230720T183000
DTEND;TZID=Australia/Sydney:20230720T203000
DTSTAMP:20230719T231943Z
URL:https://unswoc.org/wordpress/events/canyon-rigging-workshop-the-ledge/
SUMMARY:Canyon rigging workshop @ The Ledge
DESCRIPTION:Hey all\, sorry for the last minute notice!\n\n&nbsp\;\n\nI'll 
 be running a canyon rigging workshop at the ledge tonight\, focusing on so
 me bread and butter skills to get you ready to rig in a canyon!\n\n&nbsp\;
 \n\nWe'll go over:\n\n 	Theory of single rope/double rope techniques (SRT/
 DRT)\n 	What is a releasable system and why are they useful?\n 	Inspecting
  an anchor\n 	Eight blocks\n 	Munter mule overhands (MMO)\n 	Eight mile ov
 erhands (EMO)\n 	Joker/Jester type systems\n\nAnd if we have time/there is
  interest in happy to discuss a few more skills like joining ropes togethe
 r with an EDK\, building an anchor\, rigging with a fiddlesticks and anyth
 ing else I think about!
CATEGORIES:Canyoning,Training
LOCATION:https://susf.com.au/the-ledge-climbing-centre/
END:VEVENT
BEGIN:VTIMEZONE
TZID:Australia/Sydney
X-LIC-LOCATION:Australia/Sydney
BEGIN:STANDARD
DTSTART:20230402T020000
TZOFFSETFROM:+1100
TZOFFSETTO:+1000
TZNAME:AEST
END:STANDARD
END:VTIMEZONE
END:VCALENDAR