BEGIN:VCALENDAR
VERSION:2.0
PRODID:-//wp-events-plugin.com//7.2.3.1//EN
TZID:Australia/Sydney
X-WR-TIMEZONE:Australia/Sydney
BEGIN:VEVENT
UID:1863@unswoc.org
DTSTART:20160415T080000Z
DTEND:20160415T100000Z
DTSTAMP:20160219T065355Z
URL:https://unswoc.org/wordpress/events/canoe-polo-2016-04-15/
SUMMARY:Canoe Polo
DESCRIPTION:Have you ever played water polo and thought it was too tame? Do
  you want to paddle a boat around a pool on a friday night? Have you got y
 our roll down to a fine art and want to put it to use?\n\n&nbsp\;\n\nIf yo
 u answered yes to any of these questions or are just keen to have a bit of
  fun you should come along to canoe polo.\n\n&nbsp\;\n\nA few of us from t
 he club head down most fridays so if you are keen just shoot us a message.
 \n\nKylie (0422976824)\n\nAlie (0450228081)\n\nhttps://www.youtube.com/wat
 ch?v=LPmxXt47XJU\n\n&nbsp\;
CATEGORIES:Flat Water Kayaking
END:VEVENT
END:VCALENDAR