BEGIN:VCALENDAR
VERSION:2.0
PRODID:-//wp-events-plugin.com//7.2.3.1//EN
TZID:Australia/Sydney
X-WR-TIMEZONE:Australia/Sydney
BEGIN:VEVENT
UID:3019@unswoc.org
DTSTART;TZID=Australia/Sydney;VALUE=DATE:20220513
DTEND;TZID=Australia/Sydney;VALUE=DATE:20220516
DTSTAMP:20220509T070753Z
URL:https://unswoc.org/wordpress/events/camping-only-boree-log/
SUMMARY:CAMPING ONLY - Boree Log
DESCRIPTION:\n\nMissed out on Boree Log signups but still want to come alon
 g for a weekend of fun\, friends and good times! Then you're in the right 
 place.\n\nWe are opening up some CAMPING ONLY spots for Boree Log because 
 the wait list for the main event is huge and we want as many of you to be 
 involved as possible.\n\n&nbsp\;\n\nWhat this means\n\n 	You get to come a
 long to the same campground as everyone else from Friday night to Sunday M
 orning\n 	Saturday night you get to join in on the Polar themed Party and 
 Dinner (yes\, we will happily feed you)\n 	During the day on Saturday and 
 Sunday you are more than welcome to split off and do your own adventures.\
 n\n 	There's plenty of amazing day hikes around the area\, cool little tow
 ns to explore. If you are self sufficient by all means go for a climb too!
 \n\n\n\n&nbsp\;\n\nThis year we are going to Cathedral of Ferns campgroun
 d in the Blue Mountains. The theme this year is POLAR so get your icy gear
  ready!\n\n&nbsp\;\n\nNote\, please do not expect to find any last minute 
 free spots on official Boree Log Trips once you get there\, these are curr
 ently full and the numbers need to be capped for safety.\n\nHaving said th
 at if spots do open up and you are on the wait list for the main event we 
 will be in touch with you ASAP.\n\n&nbsp\;\n\nWhat do I need to bring! (IM
 PORTANT)\n\n 	Food and Water There is no drinking water at the campgroun
 d so bring your own! We will only be providing dinner on Saturday night. T
 here is also no power so bring a camping cooker or food that doesn’t nee
 d to be cooked for breakfast\, lunch and Friday dinner.\n 	Tent If you ha
 ve your own tent\, please bring it. The club has a very limited number of 
 tents that can be borrowed from the gear cupboard\, these are first-come-f
 irst-served.\n 	Sleeping Bag and Sleeping Mat You need to bring your own 
 as it will be cold at this time of year\, and a yoga mat/blanket will no
 t be a fun night’s sleep for you\n 	WARM CLOTHES This BOREE LOG will be
  a lot colder than usual as it’s later in the year. As much as we’re h
 oping for warm weather and clear skies\, please be prepared for cold night
 s and rain if need be!\n 	Personal items (e.g. toiletries\, face mask\, h
 ead torches\, rain jackets\, day pack\, personal first aid kits\, SUNSCREE
 N\, cutlery\, plate/bowl\, water bottle\, alcohol for Saturday night if y
 ou want)\n\n&nbsp\;\n\nHow do I get there?\n\n 	You'll be able to use the 
 same carpooling as the Main Boree log event\n\n 	Carpooling Spreadsheet\n\
 n\n 	Please let us know in your signup if you have a car\, and how many sp
 ots you have!\n\n&nbsp\;\n\nOther Frequently Asked questions:\n\n 	Q: Can 
 I bring a hairdryer/microwave?\n\n 	A: No\, we have no power at the campgr
 ound. And yes we have been asked this before\n\n\n 	For more questions lik
 e this\, and actual answers too\, see the FAQ\n\n&nbsp\;\n\nCost:\n\n 	Ap
 art from petrol\, this trip is free for all club members. Petrol costs wil
 l be split per car\, expect approx. $10 per person each way.\n 	There are 
 no gear hire fees as this is a club event\n 	\n\nSafety and COVID:\n\n 	We
  are all aware that COVID is still a thing. Please do not attend this even
 t if you are unwell or a close contact.\n 	COVID Vaccination Required\, re
 fer to the club’s COVID policy on the website for more info\n 	If you be
 come unwell during BOREE LOG please let one of the exec members present kn
 ow\, we will have a few rat tests on hand.\n\n&nbsp\;\n\nSuper keen to see
  everyone there! Get Excited.\n\n&nbsp\;\n\n&nbsp\;
CATEGORIES:Boree Log,Social Event
END:VEVENT
BEGIN:VTIMEZONE
TZID:Australia/Sydney
X-LIC-LOCATION:Australia/Sydney
BEGIN:STANDARD
DTSTART:20220403T020000
TZOFFSETFROM:+1100
TZOFFSETTO:+1000
TZNAME:AEST
END:STANDARD
END:VTIMEZONE
END:VCALENDAR