BEGIN:VCALENDAR
VERSION:2.0
PRODID:-//wp-events-plugin.com//7.2.3.1//EN
TZID:Australia/Sydney
X-WR-TIMEZONE:Australia/Sydney
BEGIN:VEVENT
UID:3218@unswoc.org
DTSTART;TZID=Australia/Sydney;VALUE=DATE:20230317
DTEND;TZID=Australia/Sydney;VALUE=DATE:20230320
DTSTAMP:20230309T025757Z
URL:https://unswoc.org/wordpress/events/camping-only-boree-log-2/
SUMMARY:CAMPING ONLY - Boree Log
DESCRIPTION:\n\nMissed out on Boree Log signups but still want to come alon
 g for a weekend of fun\, friends and good times! Then you're in the right 
 place.\n\nWe are opening up some CAMPING ONLY spots for Boree Log because 
 we want as many of you to be involved as possible.\n\n&nbsp\;\n\nWhat this
  means\n\n 	You get to come along to the same campground as everyone else 
 from Friday night to Sunday Morning\n 	Saturday night you get to join in o
 n the Pride themed Party and Dinner (yes\, we will happily feed you)\n 	Du
 ring the day on Saturday and Sunday you are more than welcome to split off
  and do your own adventures.\n\n 	There's plenty of amazing day hikes arou
 nd the area\, cool little towns to explore. If you are self sufficient by 
 all means go for a climb too!\n\n\n\n&nbsp\;\n\nThis year we are going to
  Cathedral of Ferns campground in the Blue Mountains. The theme this year
  is PRIDE and everyone is encouraged to dress up and get in the spirit Sat
 urday night!\n\n&nbsp\;\n\nNote\, please do not expect to find any last mi
 nute free spots on official Boree Log Trips once you get there\, these are
  currently full and the numbers need to be capped for safety.\n\nHaving sa
 id that if spots do open up we will look to fill these.\n\n&nbsp\;\n\nWhat
  do I need to bring! (IMPORTANT)\n\n 	Food and Water There is no drinkin
 g water at the campground so bring your own! We will only be providing din
 ner on Saturday night. There is also no power so bring a camping cooker or
  food that doesn’t need to be cooked for breakfast\, lunch and Friday di
 nner.\n 	Tent If you have your own tent\, please bring it. The club has a
  very limited number of tents that can be borrowed from the gear cupboard\
 , these are first-come-first-served.\n 	Sleeping Bag and Sleeping Mat You
  need to bring your own as it will be cold at this time of year\, and a 
 yoga mat/blanket will not be a fun night’s sleep for you\n 	WARM CLOTHES
  This BOREE LOG will be a lot colder than usual as it’s later in the ye
 ar. As much as we’re hoping for warm weather and clear skies\, please be
  prepared for cold nights and rain if need be!\n 	Personal items (e.g. to
 iletries\, face mask\, head torches\, rain jackets\, day pack\, personal f
 irst aid kits\, SUNSCREEN\, cutlery\, plate/bowl\, water bottle\, alcohol
  for Saturday night if you want)\n\n&nbsp\;\n\nHow do I get there?\n\n 	Yo
 u'll be able to use the same carpooling as the Main Boree log event\n\n 	C
 arpooling Spreadsheet\n\n\n 	Please let us know in your signup if you have
  a car\, and how many spots you have!\n\n&nbsp\;\n\nOther Frequently Asked
  questions:\n\n 	Q: Can I bring a hairdryer/microwave?\n\n 	A: No\, we hav
 e no power at the campground. And yes we have been asked this before\n\n\n
  	For more questions like this\, and actual answers too\, see the FAQ\n\n
 &nbsp\;\n\nCost:\n\n 	Apart from petrol\, this trip is free for all club m
 embers. Petrol costs will be split per car\, expect approx. $10 per person
  each way.\n 	There are no gear hire fees as this is a club even\n\n&nbsp\
 ;\n\n&nbsp\;\n\nSuper keen to see everyone there! Get Excited.\n\n&nbsp\;\
 n\n&nbsp\;
CATEGORIES:Boree Log,Social Event
END:VEVENT
BEGIN:VTIMEZONE
TZID:Australia/Sydney
X-LIC-LOCATION:Australia/Sydney
BEGIN:DAYLIGHT
DTSTART:20221002T030000
TZOFFSETFROM:+1000
TZOFFSETTO:+1100
TZNAME:AEDT
END:DAYLIGHT
END:VTIMEZONE
END:VCALENDAR