BEGIN:VCALENDAR
VERSION:2.0
PRODID:-//wp-events-plugin.com//7.2.3.1//EN
TZID:Australia/Sydney
X-WR-TIMEZONE:Australia/Sydney
BEGIN:VEVENT
UID:751@unswoc.org
DTSTART:20150310T193000Z
DTEND:20150310T220000Z
DTSTAMP:20150310T101346Z
URL:https://unswoc.org/wordpress/events/caffeine-required-bouldering-sessi
 on/
SUMMARY:Caffeine Required Bouldering session
DESCRIPTION:Hey Hey\,\n\nLate notice but we will be bouldering here.\n\nGet
  here at 6:30am\, and I will personally buy you a coffee.\n\nGet here at 6
 am and send something over V7 without coffee and I will take you out for a
  nice seafood dinner.\n\nSend something over V9 and I'll even call you aga
 in.\n\n&nbsp\;\n\nMatt
CATEGORIES:Outdoor Climbing
LOCATION:The Front lines\, 8 Larra Crescent\, North Rocks\, NSW\, 2151\, Au
 stralia
GEO:-33.762547;151.011871
X-APPLE-STRUCTURED-LOCATION;VALUE=URI;X-ADDRESS=8 Larra Crescent\, North Ro
 cks\, NSW\, 2151\, Australia;X-APPLE-RADIUS=100;X-TITLE=The Front lines:ge
 o:-33.762547,151.011871
END:VEVENT
END:VCALENDAR