BEGIN:VCALENDAR
VERSION:2.0
PRODID:-//wp-events-plugin.com//7.2.3.1//EN
TZID:Australia/Sydney
X-WR-TIMEZONE:Australia/Sydney
BEGIN:VEVENT
UID:2013@unswoc.org
DTSTART:20160630T130000Z
DTEND:20160702T130000Z
DTSTAMP:20160503T052113Z
URL:https://unswoc.org/wordpress/events/bwrs-navshield-rogaine/
SUMMARY:BWRS NavShield - Rogaine
DESCRIPTION:\n\nEvery year the Bushwalkers Wilderness Rescue Squad organis
 es and runs the NSW Emergency Services Wilderness Navigation Shield or Nav
 Shield. The location will be announced the week before the event.\n\nThis 
 is essentially a rogaine that attracts a lot of rescue entities (SES\, VRA
 \, Police rescue\, Ambulance\, Armed Forces).\n\nThere is a ONE-DAY EVENT 
 (8:45 am Saturday to 7:30 pm Saturday)\n\nand a TWO-DAY EVENT (8:45 am Sat
 urday to 2:00 pm Sunday)\n\nEarly entries ($25 off per team) end on May 15
 \, otherwise entries close on June 23.\n\nCost is a little steeper than ot
 her rogaines: $95 per team + $27.50 per person     -    A team of 4 wo
 uld be $95 + (4 x $27.50) = $205.00 which works out to $51.25 per person.\
 n\nAll other information can be found here http://www.bwrs.org.au/?q=NavS
 hield\n\nWe will get together in Early May to work out teams and take adva
 ntage of the discount if there is enough interest. Please indicate if you 
 have a vehicle that we could use.
ATTACH;FMTTYPE=image/jpeg:https://unswoc.org/wordpress/wp-content/uploads/
 2016/05/Navshield.jpg
CATEGORIES:Rogaining
END:VEVENT
END:VCALENDAR