BEGIN:VCALENDAR
VERSION:2.0
PRODID:-//wp-events-plugin.com//7.2.3.1//EN
TZID:Australia/Sydney
X-WR-TIMEZONE:Australia/Sydney
BEGIN:VEVENT
UID:2100@unswoc.org
DTSTART;VALUE=DATE:20170218
DTEND;VALUE=DATE:20170219
DTSTAMP:20170217T215429Z
URL:https://unswoc.org/wordpress/events/butterbox/
SUMMARY:Butterbox.
DESCRIPTION:Dave\, Wen Jun and Damon do Butterbox\, then buy a frying pan a
 nd some beer.
END:VEVENT
END:VCALENDAR