BEGIN:VCALENDAR
VERSION:2.0
PRODID:-//wp-events-plugin.com//7.2.3.1//EN
TZID:Australia/Sydney
X-WR-TIMEZONE:Australia/Sydney
BEGIN:VEVENT
UID:3707@unswoc.org
DTSTART;TZID=Australia/Sydney;VALUE=DATE:20251124
DTEND;TZID=Australia/Sydney;VALUE=DATE:20251125
DTSTAMP:20251112T063618Z
URL:https://unswoc.org/wordpress/events/butterbox-training-canyon-intermed
 iate-advanced/
SUMMARY:Butterbox Training Canyon - Intermediate/Advanced
DESCRIPTION:Lachie and I (Raff) are hoping to give some more experience to 
 some of our new canyoners. This trips focus is upskilling canyoning TLITs\
 , if you are not a canyoning TLIT but would like to become one please mess
 age me on facebook.\n\nThis is a more technical canyon\, especially on the
  walk out so it is ideal for some learning. Lachlan and I won't rig any dr
 ops\, that is for you to do (Ideally you should know how\, this is meant t
 o be practice with supervision but we are also happy to teach).\n\nAnyone 
 who signs up on this canyon should have a few canyons under their belt\, o
 r some experience in similar sports (like caving or climbing) and especial
 ly be a confident abseiler. You won't get much out of the day if you are a
 lready confident rigging as this trip is teaching  fundamental skills.\n\
 nYou should know what to bring. Please in your comment tell me how many ca
 nyons you have done and what skills you want to improve. No hidden questio
 n this time.\n\nPlease message me on facebook with any questions.\n\n&nbsp
 \;
CATEGORIES:Canyoning
LOCATION:https://maps.app.goo.gl/4PFHGpTWrZv6kwQ69
END:VEVENT
BEGIN:VTIMEZONE
TZID:Australia/Sydney
X-LIC-LOCATION:Australia/Sydney
BEGIN:DAYLIGHT
DTSTART:20251005T030000
TZOFFSETFROM:+1000
TZOFFSETTO:+1100
TZNAME:AEDT
END:DAYLIGHT
END:VTIMEZONE
END:VCALENDAR