BEGIN:VCALENDAR
VERSION:2.0
PRODID:-//wp-events-plugin.com//7.2.3.1//EN
TZID:Australia/Sydney
X-WR-TIMEZONE:Australia/Sydney
BEGIN:VEVENT
UID:1957@unswoc.org
DTSTART;VALUE=DATE:20160228
DTEND;VALUE=DATE:20160229
DTSTAMP:20160223T114356Z
URL:https://unswoc.org/wordpress/events/butterbox-canyon/
SUMMARY:Butterbox Canyon
DESCRIPTION:Hey everyone\, I'll be heading to Butterbox Canyon this Sunday 
 28th February. This is a high-quality canyon overlooking the Grose Valley.
  The highlight is near the end\, where you abseil down a deep slot in 2 pi
 tches. If people like\, we can also do a crash-course on inspecting and bu
 ilding anchors. Or if we finish early\, and if people are feeling energeti
 c\, we can do another canyon on the way back to Sydney (e.g. Fortress\, Ar
 ethusa).\n\nThis is an advanced trip. We will be a small and fast moving g
 roup (3-6 people\, pending transport). Prior canyoning/abseiling experienc
 e is essential. There is an exposed rock climbing exit (or a very long scr
 ub bash across the Grose). If I haven't canyoned with you before\, shoot m
 e a message (in the comments box when you sign up\, or find me on faceboo
 k) and let me know how much experience you have.\n\nPack all the usual can
 yoning gear\, including wetsuit\, harness\, helmet\, head torch. You will 
 need a personal anchor system (e.g. 60cm nylon sling and carabiner). Keep 
 some free space in your bag to help carry ropes. I will organise the group
  equipment (ropes\, PLB\, etc).\n\nWe'll meet at 8:30 am at Leura Station 
 then drive up the fire trail together. So we should start the canyon betwe
 en 9:00 am and 9:30 am. We can sort out transport closer to the day. Let m
 e know if you are willing to drive.\n\nIf you have any questions feel free
  to message me!
CATEGORIES:Canyoning
END:VEVENT
END:VCALENDAR