BEGIN:VCALENDAR
VERSION:2.0
PRODID:-//wp-events-plugin.com//7.2.3.1//EN
TZID:Australia/Sydney
X-WR-TIMEZONE:Australia/Sydney
BEGIN:VEVENT
UID:3575@unswoc.org
DTSTART;TZID=Australia/Sydney;VALUE=DATE:20250406
DTEND;TZID=Australia/Sydney;VALUE=DATE:20250407
DTSTAMP:20250405T053738Z
URL:https://unswoc.org/wordpress/events/butterbox-canyon-intermediate/
SUMMARY:[FULL] ~~Butterbox~~ Arethusa Canyon [Intermediate]
DESCRIPTION:Edit: Due to Mount Hay Road closures\, we will do Arethusa Cany
 on instead. Same information as below applies.\n\n\n\nCornelius\, Sudarsha
 n and I (Jason) will be running an intermediate trip through Butterbox Can
 yon. Come join us for one of the most action filled canyons in the Bluies!
 \n\nThis canyon involves lots of tricky abseils\, big jumps (optional)\, a
 nd an awesome section of canyon. Even the exit is spicy as we will need to
  put our harnesses back on for a exposed traverse and a short pitch of roc
 k climbing! Have a read of the notes here.\n\nSince this is an intermediat
 e canyon I would like all participants to have some canyoning experience o
 r have some previous abseiling/climbing experience and a keen spirit. If y
 ou have any questions on your suitability for the trip please send me a me
 ssage on Facebook.\n\n&nbsp\;\n\nPlease make you sure bring ALL required 
 gear. Some gear is available to borrow from the club.\n\nGear available to
  borrow from the club:\n\n 	Harness\n 	Helmet\n 	3x locking carabiners\n 	
 1x Figure 8 / Descender\n 	1x Safety sling (120cm sling)\n 	Drybag x2\n 	
 Wetsuit (5mm preferable)\n 	Canyon Pack or Backpack that can fit ALL your
  gear and that can get wet (30L+)\n\nOther gear you MUST bring:\n\n 	Clot
 hing:\n\n 	Enclosed shoes with good grip\n 	Wool or neoprene socks\n 	Boa
 rdshorts to wear on top of wetsuit (compulsory to protect the club wetsui
 ts)\n 	Thermals and raincoat\n 	Swimmers for under wetsuit\n 	NO COTTON! 
 (this includes socks\, shirts\, pants\, undies\, etc)\n\n\n 	Food:\n\n 	2L
  of water (minimum)\n 	Lunch\n 	Snacks to share (with me)\n\n\n 	Other:\n\
 n 	Medication (asthma puffer\, Epipen etc)\n 	Headtorch + spare batteries
 \n 	Emergency blanket – (can buy from Gear Cupboard for $5 or from chemi
 sts\, shops\, etc)\n\n\n\n&nbsp\;\n\nTo let me know you have read this far
  please tell me which mode of your transportation is your least favourite.
 \n\nIn your comment please also put:\n\n 	Your fitness level\n 	Your swimm
 ing ability\n 	Your canyoning/outdoor experience\n 	What snack you will be
  bringing to share with me :)\n
ATTACH;FMTTYPE=image/jpeg:https://unswoc.org/wordpress/wp-content/uploads/
 2025/03/IMG-20250217-WA0011.jpg
CATEGORIES:Canyoning
LOCATION:https://maps.app.goo.gl/x4oGvzbGsag5ySH57
END:VEVENT
BEGIN:VTIMEZONE
TZID:Australia/Sydney
X-LIC-LOCATION:Australia/Sydney
BEGIN:DAYLIGHT
DTSTART:20241006T030000
TZOFFSETFROM:+1000
TZOFFSETTO:+1100
TZNAME:AEDT
END:DAYLIGHT
BEGIN:STANDARD
DTSTART:20250406T020000
TZOFFSETFROM:+1100
TZOFFSETTO:+1000
TZNAME:AEST
END:STANDARD
END:VTIMEZONE
END:VCALENDAR