BEGIN:VCALENDAR
VERSION:2.0
PRODID:-//wp-events-plugin.com//7.2.3.1//EN
TZID:Australia/Sydney
X-WR-TIMEZONE:Australia/Sydney
BEGIN:VEVENT
UID:3703@unswoc.org
DTSTART;TZID=Australia/Sydney;VALUE=DATE:20251116
DTEND;TZID=Australia/Sydney;VALUE=DATE:20251117
DTSTAMP:20251111T043255Z
URL:https://unswoc.org/wordpress/events/butterbox-canyon-beginner-intermed
 iate-sunday-16-11-2025/
SUMMARY:Butterbox Canyon - Beginner/Intermediate - Sunday 16/11/2025
DESCRIPTION:Come join Daniel and I (Georgie) for an intermediate trip throu
 gh Butterbox Canyon this Sunday.\n\nThis canyon involves some tricky absei
 ls and (optional) big jumps.  Even the exit is a little spicy\, as we wil
 l need to put our harnesses back on for an exposed traverse and a short pi
 tch of rock climbing! Have a read of the notes here.\n\nSince this is an 
 intermediate canyon\, all participants should have some canyoning experien
 ce or previous abseiling/climbing experience\, as well as a keen spirit. I
 f you have any questions on your suitability for the trip please send me D
 aniel or Georgie a message on facebook.\n\nPlease make sure you bring ALL 
 the required gear (otherwise\, you will have a fun day exploring the carpa
 rk 😊 ).\n\nAvailable to borrow from the Club:\n\n 	Wetsuit\n 	Harness\n
  	Helmet\n 	1x Figure 8 / Descender\n 	3x Locking carabiners\n 	1x Safety 
 sling (120cm)\n 	Backpack that can get wet and will fit all of your gear\n
  	Dry bag/Keg that is big enough to fit your clothes\, thermals and lunch\
 n\nOther gear you must bring:\n\n 	Clothing\n\n 	Enclosed shoes with good 
 grip\, suitable for water and bushwalking\n 	Wool or neoprene socks\n 	Wal
 king clothes (to walk in/out)\n 	Old shorts to wear over wetsuit (compulso
 ry to protect club wetsuits)\n 	Raincoat\n 	Thermal top and bottom\n 	Swim
 mers for under wetsuit\n 	NO COTTON! (this includes socks\, shirts\, pants
 \, etc)\n\n\n 	Food\n\n 	1.5L of water minimum\n 	Lunch\n 	Snacks if you w
 ant to make friends 😊\n\n\n 	Other\n\n 	Any personal medical supplies (
 e.g. asthma puffer\, epi-pen)\n 	Head torch + spare batteries\n 	Dry cloth
 es and a towel for the drive back home\n\n\n
CATEGORIES:Canyoning
LOCATION:https://maps.app.goo.gl/SXLLQ5Whhs38zY4p9
END:VEVENT
BEGIN:VTIMEZONE
TZID:Australia/Sydney
X-LIC-LOCATION:Australia/Sydney
BEGIN:DAYLIGHT
DTSTART:20251005T030000
TZOFFSETFROM:+1000
TZOFFSETTO:+1100
TZNAME:AEDT
END:DAYLIGHT
END:VTIMEZONE
END:VCALENDAR