BEGIN:VCALENDAR
VERSION:2.0
PRODID:-//wp-events-plugin.com//7.2.3.1//EN
TZID:Australia/Sydney
X-WR-TIMEZONE:Australia/Sydney
BEGIN:VEVENT
UID:2334@unswoc.org
DTSTART:20181124T210000Z
DTEND:20181125T093000Z
DTSTAMP:20181118T114622Z
URL:https://unswoc.org/wordpress/events/butterbox-canyon-2/
SUMMARY:Butterbox canyon
DESCRIPTION:Hey hey!\n\nJoin Ben and I for some epic canyoning on the Sunda
 y of Boree Log. Note\, this is an intermediate canyon which involved abse
 iling and climbing!\n\nLet us know your canyoning experience in the commen
 ts as well as what your spirit animal is :)\n\nThings to bring:\n\n 	harne
 ss**\n 	helmet**\n 	atc + biner**\n 	wetsuits**\n 	backpack that can get w
 et\n 	Woollen socks (no cotton!)\n 	Thermals to wear under your wetsuit\n 
 	headtorch\n 	old shorts to protect wetsuit\n 	drybag\n 	runners that may 
 get trashed\n 	at least 1.5L of water\n 	Lunch\n 	Snacks\n 	spare clothes 
 to wear home in the car in case others get wet – don’t forget a jumper
 !\n 	**the club has limit supplies so bring your own if you can!\n
CATEGORIES:Canyoning
END:VEVENT
END:VCALENDAR