BEGIN:VCALENDAR
VERSION:2.0
PRODID:-//wp-events-plugin.com//7.2.3.1//EN
TZID:Australia/Sydney
X-WR-TIMEZONE:Australia/Sydney
BEGIN:VEVENT
UID:2602@unswoc.org
DTSTART;TZID=Australia/Sydney;VALUE=DATE:20200229
DTEND;TZID=Australia/Sydney;VALUE=DATE:20200301
DTSTAMP:20200228T104414Z
URL:https://unswoc.org/wordpress/events/bushwalking-day-walk-grand-canyon-
 and-popes-glen/
SUMMARY:Bushwalking - Day walk - Grand Canyon and Popes Glen
DESCRIPTION:Hey folks!\n\nOn Saturday 29th Feb\, Oliver and I are looking t
 o run a somewhat demanding day walk around the beautiful Grand Canyon\, Go
 vetts Leap\, and Popes Glen.\n\n\n\nNo experience necessary\, but a decent
  level of fitness is needed - we are looking to complete around 18km in ~8
  hrs with quite a bit of elevation involved. New members welcome!\n\nWe mi
 ght get an interesting opportunity to experience some recently burnt areas
  and their regrowth!\n\nTrack notes/more info\nWhat to bring\n\n 	Water! -
  You will need AT LEAST 3 Litres of water (recommend 3+).\nThere are some 
 rivers to refill along the way\, but the water needs treating.\n 	Sunscree
 n! - Australian sun is brutal. You will need to apply every 3 hours or so.
 \n 	Hat - Should be wide brimmed or a bucket hat to protect your ears and 
 neck.\n 	Food – You will need to bring lunch as well as 2+ decent snacks
 . we’ll be doing a lot of exercise so you’ll need food for energy. Esp
 ecially to get up the stairs (\; We can try to grab some dinner/afternoon 
 tea on the way back\, but don't rely on it.\n 	Hiking clothes – Be logic
 al. Wear comfortable shoes like joggers or hiking shoes. Bring light cloth
 es because you’ll get hot hiking\, BUT also bring a jumper in case of ba
 d weather. Optimally\, you want\n\n 	Joggers\, hiking shoes or trail runne
 rs. Hiking boots are ok\, but can be quite heavy.\n 	SOCKS! - Care for you
 r feet! Wool or poly-wool blend optimally\, non-cotton is preferred (gets 
 cold and slimy when wet). I like to have thin liner socks inside my thicke
 r hiking socks (nylon business socks are ok) that help wick away sweat and
  minimize blisters.\n 	Light\, breathable clothing - optimally a long slee
 ve\, collared shirt for sun protection.\n 	Warm jumper and/or a light rain
  coat or poncho\n 	Thermal top can also be a great layer when cold/wet\n\n
 \n 	Rubbish bag - Carry out your own rubbish and might grab some more that
  we come across.\n 	Backpack - To carry everything. Not any big hiking pac
 k (we wanna stay light!)\, but a waist strap is helpful to reduce the weig
 ht on shoulders.\n 	Head Torch – If you have one please bring it! We wil
 l almost definitely get out before dark but it’s better to be safe than 
 sorry.\n 	Bandaids - for little cuts and or blisters\n 	Opal Card or Petro
 l Money - If you are going via train\, bring the card! If we are going by 
 car\, bring some petrol money for your driver.\n\nPlan\nThe walk leaves an
 d returns to the Blackheath Station\, so public transport is an option.\nH
 owever\, given current Trackwork due to fire and flood damage\, we'll try 
 to use cars if possible.\nIf you can have a car available\, please let us 
 know!\nCar\nIf we end up driving\, we'll organize cars and aim to meet at 
 Blackheath station at 8:30 or 9am.\nIf we end up going via train and you'd
  prefer to drive\, meet us at Blackheath Station at 9:50am\, to get walkin
 g by 9:55-10am.\nTrain\nIf we end up catching trains: the train we are cat
 ching will leave Central Station Platform 7 at 7:18 am\, to arrive at Blac
 kHeath at 9:50am. YOU WILL NEED TO BE AT LEAST 10 MINUTES EARLY. It looks 
 like the next train won't arrive for another hour and we don't want to wai
 t for you. If you want to meet up with the train from somewhere further do
 wn the line\, please let us know.\nReturn\nDo whatever to get back home. W
 e will return to BlackHeath station\, so can public transport from there o
 r figure things out with your driver. Figure out transport via https://tra
 nsportnsw.info
CATEGORIES:Bushwalking,Hectic Hiking
END:VEVENT
BEGIN:VTIMEZONE
TZID:Australia/Sydney
X-LIC-LOCATION:Australia/Sydney
BEGIN:DAYLIGHT
DTSTART:20191006T030000
TZOFFSETFROM:+1000
TZOFFSETTO:+1100
TZNAME:AEDT
END:DAYLIGHT
END:VTIMEZONE
END:VCALENDAR