BEGIN:VCALENDAR
VERSION:2.0
PRODID:-//wp-events-plugin.com//7.2.3.1//EN
TZID:Australia/Sydney
X-WR-TIMEZONE:Australia/Sydney
BEGIN:VEVENT
UID:508@unswoc.org
DTSTART:20140801T200000Z
DTEND:20140802T200000Z
DTSTAMP:20140731T125320Z
URL:https://unswoc.org/wordpress/events/bushwalking-coast-track/
SUMMARY:Bushwalking - The Coast Track
DESCRIPTION:Hey team\,\nI'm running a beginners overnight bushwalking trip 
 this weekend on the Coast Track. Leaving Saturday morning and getting back
  Sunday afternoon.\n\nWe are catching a train from central to Cronulla and
  then the ferry across to Bundeena. The track is 26km with the camp site a
  little past half way. If you're new to the club (or the country) its a gr
 eat way to get started (fit) and see the Australian coast.\n\nYou will nee
 d:\n-3+ Litres of water\n-Lunch\, dinner and breakfast.\n-Sleeping bag and
  a spot in a tent (club has gear)\n-Warm gear for the night\n-Anything els
 e you normally require to live.\n\nMeeting at the gear cupboard at 7am Sat
 urday Morning.\n\nAll levels of fitness and experience welcome.\nIt's lit
 erally a walk in the park. \n\nAny question\, queries or doubtful points
  can and should be asked through the facebooks.\n\nCheers\,\nLuke - 044987
 6605
CATEGORIES:Bushwalking
LOCATION:The Coast Track\, UNSW\, Sydney\, Australia\, Australia
GEO:-33.917412;151.231308
X-APPLE-STRUCTURED-LOCATION;VALUE=URI;X-ADDRESS=UNSW\, Sydney\, Australia\,
  Australia;X-APPLE-RADIUS=100;X-TITLE=The Coast Track:geo:-33.917412,151.2
 31308
END:VEVENT
END:VCALENDAR