BEGIN:VCALENDAR
VERSION:2.0
PRODID:-//wp-events-plugin.com//7.2.3.1//EN
TZID:Australia/Sydney
X-WR-TIMEZONE:Australia/Sydney
BEGIN:VEVENT
UID:3359@unswoc.org
DTSTART;TZID=Australia/Sydney;VALUE=DATE:20231111
DTEND;TZID=Australia/Sydney;VALUE=DATE:20231112
DTSTAMP:20231107T023003Z
URL:https://unswoc.org/wordpress/events/bushwalk-botanising/
SUMMARY:Bushwalk + Botanising
DESCRIPTION:Hey everyone!\nKrish and I will be leading a chill day hike in 
 the Royal National Park this coming Saturday (11th of November)\nWe'll be 
 meeting at Curra Moors Car Park and walking the loop track via Garie Beach
 . We'll also be engaging in some botanising (details of which will be talk
 ed about on the day of the hike!) \nThis trip is very beginner-friendly\,
  assuming you can comfortably walk 9.2km in a day.\nYou will need:\n\n\n 	
 Day pack\n 	Lunch/snacks\n 	Swimmers and a towel\n 	WATER (1.5L minimum!)\
 n 	Comfortable walking shoes\n 	Sunscreen/hat\n\nTo let us know that you'v
 e read the above information\, let us know your favourite plant in the com
 ments!
LOCATION:https://www.google.com.au/maps/place/Curra+Moors+Track+Entry+%26+P
 arking/@-34.1625809,151.0558631,14.3z/data=!4m6!3m5!1s0x6b12c4a49a7dd897:0
 xe0435f3a61ac0b67!8m2!3d-34.1622881!4d151.0567864!16s%2Fg%2F11b7ybp9_x?ent
 ry=ttu
END:VEVENT
BEGIN:VTIMEZONE
TZID:Australia/Sydney
X-LIC-LOCATION:Australia/Sydney
BEGIN:DAYLIGHT
DTSTART:20231001T030000
TZOFFSETFROM:+1000
TZOFFSETTO:+1100
TZNAME:AEDT
END:DAYLIGHT
END:VTIMEZONE
END:VCALENDAR