BEGIN:VCALENDAR
VERSION:2.0
PRODID:-//wp-events-plugin.com//7.2.3.1//EN
TZID:Australia/Sydney
X-WR-TIMEZONE:Australia/Sydney
BEGIN:VEVENT
UID:482@unswoc.org
DTSTART:20140509T200000Z
DTEND:20140509T223000Z
DTSTAMP:20140506T161408Z
URL:https://unswoc.org/wordpress/events/bungonia-trail-running/
SUMMARY:Bungonia Trail Running
DESCRIPTION:Planning to go for a trail run in the morning on Saturday. Aimi
 ng to do about 15km at about a 6min/km pace. Anyone if free to join and co
 me for a long as you like. Aiming to start the run at about 7-730 and be b
 ack at camp by 9-930 (which\, knowing bultitude\, will be before they leav
 e to go climbing anyway :P) so you can slot into another trip when we get 
 back.\n\nAfter the run\, I might poke me head in a cave or join the climbe
 rs\, I haven't decided yet.\n\nAll welcome.
LOCATION:\, \, 
X-APPLE-STRUCTURED-LOCATION;VALUE=URI;X-ADDRESS=\, ;X-APPLE-RADIUS=100;X-TI
 TLE=:geo:0,0
END:VEVENT
END:VCALENDAR