BEGIN:VCALENDAR
VERSION:2.0
PRODID:-//wp-events-plugin.com//7.2.3.1//EN
TZID:Australia/Sydney
X-WR-TIMEZONE:Australia/Sydney
BEGIN:VEVENT
UID:479@unswoc.org
DTSTART:20140510T000000Z
DTEND:20140510T060000Z
DTSTAMP:20140429T145733Z
URL:https://unswoc.org/wordpress/events/bungonia-sport-climbing/
SUMMARY:Bungonia Sport Climbing
DESCRIPTION:This is beginner friendly sport climbing trip. There are space 
 for upto 20 climbers\, but a max of ten non sport leaders. We will have so
 me top ropes setup. The crag is not publicised online but has sport for gr
 ade 17-22. I'll setup some easier top ropes as well. There may be some tra
 d climbing to be had as well.
CATEGORIES:Outdoor Climbing
LOCATION:\, \, 
X-APPLE-STRUCTURED-LOCATION;VALUE=URI;X-ADDRESS=\, ;X-APPLE-RADIUS=100;X-TI
 TLE=:geo:0,0
END:VEVENT
END:VCALENDAR