BEGIN:VCALENDAR
VERSION:2.0
PRODID:-//wp-events-plugin.com//7.2.3.1//EN
TZID:Australia/Sydney
X-WR-TIMEZONE:Australia/Sydney
BEGIN:VEVENT
UID:1873@unswoc.org
DTSTART;VALUE=DATE:20160430
DTEND;VALUE=DATE:20160502
DTSTAMP:20160220T070056Z
URL:https://unswoc.org/wordpress/events/bungonia-palooza/
SUMMARY:Bungonia Palooza
DESCRIPTION:Do you enjoy squirming around in the dark? Do you want to squee
 ze yourself through some tight holes? Do you enjoy getting dirty?\n\nWell 
 caving is for you. We are going to head down to Bungonia for a weekend or 
 caving\, canyoning and climbing fun. Get excited.\n\nRegistrations will op
 en after Boree Log.\n\nFor a bit of a teaser watch the below video.\n\nhtt
 p://www.redbull.com/au/en/adventure/stories/1331773728072/this-60-second-c
 lip-makes-you-feel-claustrophobic
CATEGORIES:Canyoning,Caving,Outdoor Climbing
END:VEVENT
END:VCALENDAR