BEGIN:VCALENDAR
VERSION:2.0
PRODID:-//wp-events-plugin.com//7.2.3.1//EN
TZID:Australia/Sydney
X-WR-TIMEZONE:Australia/Sydney
BEGIN:VEVENT
UID:3037@unswoc.org
DTSTART;TZID=Australia/Sydney:20220826T183000
DTEND;TZID=Australia/Sydney:20220828T170000
DTSTAMP:20220817T034427Z
URL:https://unswoc.org/wordpress/events/bungonia-palooza-2022/
SUMMARY:Bungonia Palooza 2022
DESCRIPTION:Here it is - the caving event of the year! Bungonia Palooza 202
 2!\nBungonia Palooza is a weekend for cavers of all levels to come and do 
 some serious caving and make new underground friends. Think of it as a min
 i winter Boree Log... but muddier.\nIt will include beginner\, intermediat
 e\, and advanced cave trips\, cave speed runs\, canyon and climbing trips\
 , and cool camping and hanging out around a fire.\n_______________________
 _____________________________________________________\nDue to the number o
 f people coming to Bungonia Palooza\, there are a few steps to signing up.
  Please read carefully in order to make sure you get what you want out of 
 the weekend.\n\n\n 	Sign up for this trip on the UNSWOC page! Make sure in
  your booking to include the following - your name\, facebook link\, skill
  level (see below)\, medical issues\, if you have a car\, and MOST IMPORTA
 NTLY your favourite cave (I know no-one knows cave names\, but google cool
  caves and write the coolest one you see! My fave is The Cave of Crystals 
 in Mexico). Bungonia Palooza is in HIGH DEMAND and you will not be accepte
 d unless you follow these instructions.\n 	Have a look at the trips offere
 d below and your skill level and choose which trips (+ backups) you want t
 o go on. These will be released as individual trips in about a week.\n 	Si
 gn up for your Saturday and Sunday trip\n 	Facebook groups will be made to
  organise car pooling\, tent sharing\, gear hauling etc. Individual gear l
 ists will be sent (hint: get a head-torch)\n 	Come caving!!\n\n___________
 _________________________________________________________________\nSkill l
 evels:\n\n&nbsp\;\n\nBeginner: what is a cave? what is a rope? You might n
 ot know but you are keen to find out!\n\n&nbsp\;\n\nIntermediate: maybe yo
 u've been caving before. Maybe you haven't\, but you've been lead climbing
  or canyoning or have other rope skills and experience at heights.\n\n&nbs
 p\;\nAdvanced: you have experience ascending ropes in caves - jumarring or
  prusicking\n&nbsp\;\nFeel free to message me if you are unsure about your
  skill level\, and also feel free to book an easier trip Saturday and a mo
 re advanced trip Sunday!\n________________________________________________
 ____________________________\nTHE TRIPS:\n&nbsp\;\nB4-5 CAVE\nA super fun 
 horizontal (no abseils) cave in Bungonia. Very maze-like with lots of sque
 ezes and small climbs and crossroads.\nBeginner - anyone fit can come.\n&n
 bsp\;\nGRILL CAVE\nA pretty cave with lots of ladders and caverns filled w
 ith stalagmites and stalactites.\nBeginner - anyone fit can come.\n&nbsp\;
 \nBLOWFLY CAVE\nSuper fun cave with interesting squeezes\, climby bits\, a
 nd an abseil and jumar.\nIntermediate - people with rope experience prefer
 red.\n&nbsp\;\nCAVE EXPLORATION\nYou'll never know what caves you could fi
 nd. Come jump into a variety of holes with varying levels of difficulty an
 d technicality.\nIntermediate - people with rope experience preferred\n&nb
 sp\;\nARGYLE CAVE\nOne of the deepest caves in Bungonia with tonnes of abs
 eils descending to the crystal-clear water table.\nAdvanced - people with 
 rope ascending experience only.\n&nbsp\;\nDRUM CAVE\nOne of the biggest ca
 ves in Bungonia. Very technical with several abseils up to 60m. Highlights
  include bats and a football pitch sized cavern deep in the cave.\nAdvance
 d - people with rope ascending experience only.\n&nbsp\;\nCANYON (TBA)\nBe
 autiful winter canyons for those who enjoy seeing the sky. Abseil past big
  waterfalls and trek out through the Bungonia National Park. Best of all\,
  no rope ascending!\nBeginner/intermediate - super keen people with or wit
 hout rope experience.\n&nbsp\;\nROCK CLIMBING\nBungonia offers a unique cl
 imbing experience on limestone cliffs.\nIntermediate/Advanced - I believe 
 the grades are not super easy.\n__________________________________________
 __________________________________\nIt's going to be a fully sick (and mud
 dy) time\, so get keen\, and see you there!\nXoxo Izzy and the Caving Team
 !
ATTACH;FMTTYPE=image/jpeg:https://unswoc.org/wordpress/wp-content/uploads/
 2022/08/caving-palooza-22.png
CATEGORIES:Caving
END:VEVENT
BEGIN:VTIMEZONE
TZID:Australia/Sydney
X-LIC-LOCATION:Australia/Sydney
BEGIN:STANDARD
DTSTART:20220403T020000
TZOFFSETFROM:+1100
TZOFFSETTO:+1000
TZNAME:AEST
END:STANDARD
END:VTIMEZONE
END:VCALENDAR