BEGIN:VCALENDAR
VERSION:2.0
PRODID:-//wp-events-plugin.com//7.2.3.1//EN
TZID:Australia/Sydney
X-WR-TIMEZONE:Australia/Sydney
BEGIN:VEVENT
UID:2204@unswoc.org
DTSTART:20171125T090000Z
DTEND:20171127T110000Z
DTSTAMP:20171103T070243Z
URL:https://unswoc.org/wordpress/events/bungonia-palooza-2017/
SUMMARY:Bungonia Palooza 2017
DESCRIPTION:&nbsp\;\n\n\n\n&nbsp\;\n\nThe UNSW Indoors Club is proud to pre
 sent a two-day adventure-filled palooza. Running trips from Intro - Advanc
 ed\, depending on participant skill level. Come along if you're keen for s
 ome sweet squeezes/abseils/dirt/darkness/jumarring/bats.\n\nAlso\, if you
 're real organised\, Bungonia also has some sick climbing and canyons for 
 you to check out\, but we'll (officially) be running caves.\n\nSpecific ca
 ves will be decided on closer to the date.\n\n&nbsp\;\n\nPacking list:\n\n
 *Tent (ask to share with others)\n\n*Sleeping bag\n\n*Sleeping mat\n\n*Har
 ness\n\n*Safety sling &amp\; biner\n\n*Descender (ATC\, figure-8\, etc) &a
 mp\; biner\n\n*Helmet\n\nHeadtorch\n\nBack-up light\n\nShoes to get dirty\
 n\nClothes to wear under cave suits (I usually go for just a t-shirt/therm
 al top and leggings)\n\nWater\n\n*Stove (although bungonia also has bbqs)\
 n\nCooking stuff\n\nFood - dinner &amp\; breakfast for at camp\, lunch to 
 put in a pocket and take into cave\, snacks\n\nCA$H for camping fees\, pet
 rol money for your driver\, park entry fees etc\n\n—&gt\; items with a *
  can be borrowed from club - let us know what you need\n\n&nbsp\;\n\nSee y
 ou there!
CATEGORIES:Caving
END:VEVENT
END:VCALENDAR