BEGIN:VCALENDAR
VERSION:2.0
PRODID:-//wp-events-plugin.com//7.2.3.1//EN
TZID:Australia/Sydney
X-WR-TIMEZONE:Australia/Sydney
BEGIN:VEVENT
UID:476@unswoc.org
DTSTART:20140509T060000Z
DTEND:20140511T060000Z
DTSTAMP:20140428T225051Z
URL:https://unswoc.org/wordpress/events/bungonia-palooza-2014/
SUMMARY:Bungonia Palooza 2014
DESCRIPTION:Come Caving\, Climbing or Canyoning.\n\nYou must be signed up 
 to to day trips to attend and sort your own transport. Details and registr
 ation to follow.\n\nWe have the SA car to haul gear and will be running t
 rips for beginners and more advanced trips as well.\n\nPlease note that th
 is event is just for coordinating what people want to do and you are not o
 fficially attending until you are enrolled in a trip for Saturday on the w
 ebsite.\n\nAlso there is a fee for entering Bungonia State Conservation ar
 ea\, expect to pay $20 to get into the park and $20 in fuel.\n\n\nIf you a
 re definitely coming\,you should Book and pay for your camping online here
 .\n\nhttps://nsw.rezexpert.com/book?business_code=500291\n\nI'd recommend 
 booking as a car of people who are heading up together to save on booking 
 fees and work\n\n\n&nbsp\;
CATEGORIES:Caving
LOCATION:\, \, 
X-APPLE-STRUCTURED-LOCATION;VALUE=URI;X-ADDRESS=\, ;X-APPLE-RADIUS=100;X-TI
 TLE=:geo:0,0
END:VEVENT
END:VCALENDAR