BEGIN:VCALENDAR
VERSION:2.0
PRODID:-//wp-events-plugin.com//7.2.3.1//EN
TZID:Australia/Sydney
X-WR-TIMEZONE:Australia/Sydney
BEGIN:VEVENT
UID:830@unswoc.org
DTSTART;VALUE=DATE:20150418
DTEND;VALUE=DATE:20150420
DTSTAMP:20150417T001509Z
URL:https://unswoc.org/wordpress/events/bungonia-i-hardly-know-her/
SUMMARY:Bungonia? I hardly know her.
DESCRIPTION:Hey Guys and Gals\,\n\nI will be running a caving trip this wee
 kend down at Bungonia.\n\nCaving is cool\, but if you don't want to do tha
 t\, we will also boulder\, as we hear there is some awesome easy stuff nea
 rby\, so bring your climbing shoes.\n\nI'll be getting down on Saturday mo
 rning at 10am\, and my phone number is 0421572445 if you need to call me. 
 If you aren't there by 11ish you will probably miss out on the first cave!
 \n\nThere will be caves run both days\, so feel free to turn up for Sunday
 \, but we might be in a cave already if you show up too late!\n\nIf you ha
 ven't caved before:\n\n	You will need a headtorch\n	You will NEED a headto
 rch\n	You will absolutely 100% need a headtorch\n	I'm not kidding\, get a 
 headtorch\n	Change of batteries for said headtorch\n	Clothes that will get
  outrageously filthy which COVER YOUR ELBOWS AND KNEES (We might be able t
 o get some overalls for you if you arrange with us beforehand)\n	Shoes tha
 t will get outrageously filthy. Go and buy a pair of cheap dunlop volleys 
 from Target. You will DESTROY your sneakers.\n	We will be camping and it w
 ill be cold. You will need to organize tents and sleeping bags. No I will 
 not do it for you.\n	Camping at the campground is $10 per night per person
  (minimum two people booking). I would suggest booking here ahead of time\
 , otherwise you may not get a camping spot: https://nsw.rezexpert.com/book
 ?business_code=500291\n	Food - Cooking facilities are available at the cam
 psite\, but it will be busy so you might have to wait a while for a spot.\
 n	Toilets and showers are at the campsite\n	Bring your climbing harness in
  case we do a vertical cave (depends on skill levels on the day)\n	It is p
 retty hard to get to the campsite without a car\, and there is a $7 per ca
 r per day fee. Suggest carpooling\, organise on the Facebook page.\n
CATEGORIES:Caving,Outdoor Climbing
LOCATION:Bungonia State Recreation Area\, 838 The Lookdown Road\, Bungonia\
 , NSW\, 2580\, Australia
GEO:-34.834175;149.983871
X-APPLE-STRUCTURED-LOCATION;VALUE=URI;X-ADDRESS=838 The Lookdown Road\, Bun
 gonia\, NSW\, 2580\, Australia;X-APPLE-RADIUS=100;X-TITLE=Bungonia State R
 ecreation Area:geo:-34.834175,149.983871
END:VEVENT
END:VCALENDAR