BEGIN:VCALENDAR
VERSION:2.0
PRODID:-//wp-events-plugin.com//7.2.3.1//EN
TZID:Australia/Sydney
X-WR-TIMEZONE:Australia/Sydney
BEGIN:VEVENT
UID:2446@unswoc.org
DTSTART;TZID=Australia/Sydney;VALUE=DATE:20190803
DTEND;TZID=Australia/Sydney;VALUE=DATE:20190804
DTSTAMP:20190730T120251Z
URL:https://unswoc.org/wordpress/events/bungonia-drum-cave/
SUMMARY:Bungonia - Drum cave
DESCRIPTION:Interclub Saturday
CATEGORIES:Caving
END:VEVENT
BEGIN:VTIMEZONE
TZID:Australia/Sydney
X-LIC-LOCATION:Australia/Sydney
BEGIN:STANDARD
DTSTART:20190407T020000
TZOFFSETFROM:+1100
TZOFFSETTO:+1000
TZNAME:AEST
END:STANDARD
END:VTIMEZONE
END:VCALENDAR