BEGIN:VCALENDAR
VERSION:2.0
PRODID:-//wp-events-plugin.com//7.2.3.1//EN
TZID:Australia/Sydney
X-WR-TIMEZONE:Australia/Sydney
BEGIN:VEVENT
UID:537@unswoc.org
DTSTART;VALUE=DATE:20140830
DTEND;VALUE=DATE:20140831
DTSTAMP:20140829T011705Z
URL:https://unswoc.org/wordpress/events/bungonia-caving/
SUMMARY:Bungonia Caving
DESCRIPTION:Skill Level: Beginner (must be comfortable in tight enclosed sp
 aces)\n\nWhat: B45 and Grill Cave (both walk through caves)\n\nWhere: Bung
 onia National Park\n\nEquipment:\n\n- Caving suit (can be borrowed from th
 e club)\n\n- Helmet\n\n- Head torch\n\n- Water\n\n- Food for the day\n\n- 
 Shoes and clothes that you are happy to get dirty\n\n- Lighter (one betwee
 n two is enough)\n\n&nbsp\;\n\nIt is about a two hour drive and we will ne
 ed to sort out cars. I have four spots available in my car so I will open 
 up spots as people who have cars offer to come.\n\nIf you have any questio
 ns just send me a message. (0422976824)\n\nKylie\n\n&nbsp\;\n\n&nbsp\;
CATEGORIES:Caving
LOCATION:\, \, 
X-APPLE-STRUCTURED-LOCATION;VALUE=URI;X-ADDRESS=\, ;X-APPLE-RADIUS=100;X-TI
 TLE=:geo:0,0
END:VEVENT
END:VCALENDAR