BEGIN:VCALENDAR
VERSION:2.0
PRODID:-//wp-events-plugin.com//7.2.3.1//EN
TZID:Australia/Sydney
X-WR-TIMEZONE:Australia/Sydney
BEGIN:VEVENT
UID:3436@unswoc.org
DTSTART;TZID=Australia/Sydney;VALUE=DATE:20240706
DTEND;TZID=Australia/Sydney;VALUE=DATE:20240707
DTSTAMP:20240701T034025Z
URL:https://unswoc.org/wordpress/events/bungonia-caving-trip/
SUMMARY:Bungonia Caving Trip
DESCRIPTION:This Saturday\, Alex and I (Maddi) will be heading down south t
 o Bungonia for some caving. We will be visiting B4-5 (Aka Fossil Cave and 
 Hogan’s Cave) via Devils Kitchen\, where we can practice abseiling/ascen
 ding and help clear out the sump.\n\n\n\nThis is a beginner friendly trip 
 that will involve abseiling\, scrambling\, squeezing\, crawling and ascend
 ing if you choose. Be prepared for small spaces\, darkness\, heights\, dus
 t and probably bats! There will be abseiling on this trip and it is prefer
 red you have some rope work experience.\n\nWe will be meeting up at Bungon
 ia National Park on Saturday Morning (approx 2 hours drive south). Bungoni
 a has one of the best campgrounds around\, with hot showers\, a kitchen an
 d proper toilets so feel free to come down and camp overnight. As seen abo
 ve\, the caves can get dirty so keep this in mind when deciding on your ge
 ar for the day.\n\nWhat YOU need to bring:\n\n 	Enclosed shoes\n 	Long sle
 eved clothes/long pants that you are comfortable getting dirty/will keep y
 ou warm for a full day in the cave\n 	Gloves\n 	Helmet* (available to be b
 orrowed from the club)\n 	Harness*\n 	Descender* (Figure 8/raprack etc.)\n
  	Prusik/biner*\n 	Sling/biner (safety)*\n 	Set of ascenders*\n 	Headtorch
 \n 	Spare batteries for headtorch or secondary torch\n 	Food/snacks for th
 e day\n 	At least 1L water\n 	Small bag to carry everything\n 	Personal me
 dications\n\n*Available from the gear cupboard\n\nAs there are hot showers
  available at the campground\, I would also suggest bringing a towel\, cha
 nge of clothes to fully experience the available amenities! and not comple
 tely wreck whoevers car you're in.\n\nPlease include in the comment your e
 xperience (outdoors background and whether you have any caving/abseiling/a
 scending experience)\, whether you have a car and how many people you can 
 take OR where you need a lift from\, and the best name for a new puppy (ju
 st so we know you have read all of this information).\n\nIf you have any q
 uestions please feel free to message Alex M or myself\n\nThanks\,\n\nMaddi
CATEGORIES:Caving
LOCATION:https://www.google.com.au/maps/place/Bungonia+National+Park/@-34.8
 011198,150.0123401,971m/data=!3m1!1e3!4m14!1m7!3m6!1s0x6b1405faa7f3e15f:0x
 522cbb0056387d64!2sBungonia+National+Park!8m2!3d-34.8017071!4d150.0176219!
 16s%2Fg%2F122j3cyj!3m5!1s0x6b1405faa7f3e15f:0x522cbb0056387d64!8m2!3d-34.8
 017071!4d150.0176219!16s%2Fg%2F122j3cyj?entry=ttu
END:VEVENT
BEGIN:VTIMEZONE
TZID:Australia/Sydney
X-LIC-LOCATION:Australia/Sydney
BEGIN:STANDARD
DTSTART:20240407T020000
TZOFFSETFROM:+1100
TZOFFSETTO:+1000
TZNAME:AEST
END:STANDARD
END:VTIMEZONE
END:VCALENDAR