BEGIN:VCALENDAR
VERSION:2.0
PRODID:-//wp-events-plugin.com//7.2.3.1//EN
TZID:Australia/Sydney
X-WR-TIMEZONE:Australia/Sydney
BEGIN:VEVENT
UID:3467@unswoc.org
DTSTART;TZID=Australia/Sydney;VALUE=DATE:20240915
DTEND;TZID=Australia/Sydney;VALUE=DATE:20240916
DTSTAMP:20240912T223851Z
URL:https://unswoc.org/wordpress/events/bungonia-caving-trip-2/
SUMMARY:Bungonia Caving Trip is now Full!!!
DESCRIPTION:Hi Folks!\n\nCindy and I will be cashing in that raincheck and 
 will be running an impromptu caving trip at Bungonia this Sunday.\nWe have
  yet to lock in the cave so please comment your experience and what you ma
 y like to do/learn on the trip.\nNB: Comments essential\, no answers no tr
 ip.\n\nMeeting at Bungonia kitchen Sunday morning @ 9am.\n(Cindy and I wil
 l be camping from the night before)\n\nAlso comment if you have a car.\n\n
 Required gear:\n\n 	Helmet *\n 	2x headlamps\n 	extra batteries\n 	emergen
 cy blanket*\n 	old grippy shoes\n 	old clothes\n 	tradie top and botttom o
 r overalls* are nice to have\n 	Small bottle of water\n 	Personal meds\n 	
 Small lunch/snacks\n 	Tiny backpack\n\n*can be borrowed from gear shed
ATTACH;FMTTYPE=image/jpeg:https://unswoc.org/wordpress/wp-content/uploads/
 2024/09/WhatsApp-Image-2024-09-10-at-10.38.03_29a19dfe.jpg
CATEGORIES:Caving
LOCATION:https://maps.app.goo.gl/5SYqu951tAatACSh9
END:VEVENT
BEGIN:VTIMEZONE
TZID:Australia/Sydney
X-LIC-LOCATION:Australia/Sydney
BEGIN:STANDARD
DTSTART:20240407T020000
TZOFFSETFROM:+1100
TZOFFSETTO:+1000
TZNAME:AEST
END:STANDARD
END:VTIMEZONE
END:VCALENDAR