BEGIN:VCALENDAR
VERSION:2.0
PRODID:-//wp-events-plugin.com//7.2.3.1//EN
TZID:Australia/Sydney
X-WR-TIMEZONE:Australia/Sydney
BEGIN:VEVENT
UID:2460@unswoc.org
DTSTART;TZID=Australia/Sydney;VALUE=DATE:20190825
DTEND;TZID=Australia/Sydney;VALUE=DATE:20190826
DTSTAMP:20190821T003656Z
URL:https://unswoc.org/wordpress/events/bungonia-caving-drum-cave/
SUMMARY:Bungonia Caving - Drum Cave
DESCRIPTION:We'll be doing Drum Cave! A fun\, long cave with cool stuff\n\n
 &nbsp\;\n\nPacking list:\n\n*Harness\n*Safety sling &amp\; biner\n*Descend
 er (ATC\, figure-8\, etc) &amp\; biner\n*Helmet\nHeadtorch\nBack-up light\
 nShoes to get dirty\nClothes to wear under cave suits (I usually go for ju
 st a t-shirt/thermal top and leggings)\nCA$H for petrol money for your dri
 ver\, park entry fees etc\n—&gt\; items with a * can be borrowed from cl
 ub – let us know what you need\n\n&nbsp\;\n\nSee you there!\n\n&nbsp\;
CATEGORIES:Caving
END:VEVENT
BEGIN:VTIMEZONE
TZID:Australia/Sydney
X-LIC-LOCATION:Australia/Sydney
BEGIN:STANDARD
DTSTART:20190407T020000
TZOFFSETFROM:+1100
TZOFFSETTO:+1000
TZNAME:AEST
END:STANDARD
END:VTIMEZONE
END:VCALENDAR