BEGIN:VCALENDAR
VERSION:2.0
PRODID:-//wp-events-plugin.com//7.2.3.1//EN
TZID:Australia/Sydney
X-WR-TIMEZONE:Australia/Sydney
BEGIN:VEVENT
UID:1456@unswoc.org
DTSTART:20150829T193000Z
DTEND:20150830T060000Z
DTSTAMP:20150827T011845Z
URL:https://unswoc.org/wordpress/events/bungonia-caving-b45-extension/
SUMMARY:Bungonia Caving B45 Extension
DESCRIPTION:A few of us are going caving this Sunday in Bungonia.
CATEGORIES:Caving
LOCATION:\, \, 
X-APPLE-STRUCTURED-LOCATION;VALUE=URI;X-ADDRESS=\, ;X-APPLE-RADIUS=100;X-TI
 TLE=:geo:0,0
END:VEVENT
END:VCALENDAR