BEGIN:VCALENDAR
VERSION:2.0
PRODID:-//wp-events-plugin.com//7.2.3.1//EN
TZID:Australia/Sydney
X-WR-TIMEZONE:Australia/Sydney
BEGIN:VEVENT
UID:2439@unswoc.org
DTSTART;TZID=Australia/Sydney;VALUE=DATE:20190720
DTEND;TZID=Australia/Sydney;VALUE=DATE:20190722
DTSTAMP:20190715T065318Z
URL:https://unswoc.org/wordpress/events/bungonia-caving-3/
SUMMARY:Bungonia caving!
DESCRIPTION:The UNSW Indoors Club is proud to present a two-day adventure-f
 illed palooza. Running trips from Intro – Advanced\, depending on partic
 ipant skill level. Come along if you’re keen for some sweet squeezes/abs
 eils/dirt/darkness/jumarring/bats.\n\nAlso\, if you’re real organised\,
  Bungonia also has some sick climbing and canyons for you to check out\, b
 ut we’ll (officially) be running caves.\n\nSpecific caves will be decide
 d on closer to the date.\n\n&nbsp\;\n\nPacking list:\n\n*Tent (ask to shar
 e with others)\n*Sleeping bag\n*Sleeping mat\n*Harness\n*Safety sling &amp
 \; biner\n*Descender (ATC\, figure-8\, etc) &amp\; biner\n*Helmet\nHeadtor
 ch\nBack-up light\nShoes to get dirty\nClothes to wear under cave suits (I
  usually go for just a t-shirt/thermal top and leggings)\nWater\n*Stove (a
 lthough bungonia also has bbqs)\nCooking stuff\nFood – dinner &amp\; bre
 akfast for at camp\, lunch to put in a pocket and take into cave\, snacks\
 nCA$H for camping fees\, petrol money for your driver\, park entry fees et
 c\n—&gt\; items with a * can be borrowed from club – let us know what 
 you need\n\n&nbsp\;\n\nSee you there!\n\n&nbsp\;\n\n****Please write your 
 experience in the comments****
CATEGORIES:Caving
END:VEVENT
BEGIN:VTIMEZONE
TZID:Australia/Sydney
X-LIC-LOCATION:Australia/Sydney
BEGIN:STANDARD
DTSTART:20190407T020000
TZOFFSETFROM:+1100
TZOFFSETTO:+1000
TZNAME:AEST
END:STANDARD
END:VTIMEZONE
END:VCALENDAR