BEGIN:VCALENDAR
VERSION:2.0
PRODID:-//wp-events-plugin.com//7.2.3.1//EN
TZID:Australia/Sydney
X-WR-TIMEZONE:Australia/Sydney
BEGIN:VEVENT
UID:2409@unswoc.org
DTSTART;VALUE=DATE:20190518
DTEND;VALUE=DATE:20190520
DTSTAMP:20190515T080111Z
URL:https://unswoc.org/wordpress/events/bungonia-caving-2/
SUMMARY:Bungonia caving
DESCRIPTION:Caving - 18-19th May\n\n 	Grill\n 	Blowfly\n 	Chalk\n 	Acoustic
  pot\n 	Chalk/drum\n
CATEGORIES:Caving
END:VEVENT
END:VCALENDAR