BEGIN:VCALENDAR
VERSION:2.0
PRODID:-//wp-events-plugin.com//7.2.3.1//EN
TZID:Australia/Sydney
X-WR-TIMEZONE:Australia/Sydney
BEGIN:VEVENT
UID:652@unswoc.org
DTSTART:20150122T130000Z
DTEND:20150126T100000Z
DTSTAMP:20150120T121740Z
URL:https://unswoc.org/wordpress/events/bungleboori-canyoning-south-branch
 /
SUMMARY:Bungleboori Canyoning (South Branch) 
DESCRIPTION:Hey guys\,\n\nWe're heading up to the Bungleboori in Newnes Sta
 te Forest this Australia Day weekend to explore some lesser-visited canyon
 s.\n\nSorry but this is not a beginner's trip - you need to be a proficien
 t abseiler and we comfortable carrying in a hiking pack with gear and food
  for 3 days.\n\n&nbsp\;
CATEGORIES:Bushwalking,Canyoning
END:VEVENT
END:VCALENDAR