BEGIN:VCALENDAR
VERSION:2.0
PRODID:-//wp-events-plugin.com//7.2.3.1//EN
TZID:Australia/Sydney
X-WR-TIMEZONE:Australia/Sydney
BEGIN:VEVENT
UID:3313@unswoc.org
DTSTART;TZID=Australia/Sydney;VALUE=DATE:20230923
DTEND;TZID=Australia/Sydney;VALUE=DATE:20230924
DTSTAMP:20230921T053943Z
URL:https://unswoc.org/wordpress/events/bundeena-to-little-marley-beach-da
 y-hike/
SUMMARY:Bundeena to Little Marley Beach Day Hike
DESCRIPTION:Hi guys!\n\nKrish and I will be leading a day hike in the Royal
  National Park on Saturday the 23rd of September. This hike was originally
  meant to take place on the 16th\, but unfortunately due to back-burning\,
  we've had to delay the trip by a week.\n\nWe will be meeting at Bundeena 
 Ferry Wharf and will walk along the coastal track to Big Marley beach\, be
 fore heading on to Little Marley Beach were we can relax a bit before we h
 ead back.\n\nThis trip is very beginner friendly\, assuming you have a bas
 e level of fitness and can comfortably walk 14 km in a day. It’s a lovel
 y walk with some stunning views of the coast.\n\n\nAmazing cliff views on 
 the track to little Marley\n&nbsp\;\n\nPlease ensure that you follow the p
 acking list below:\n\n 	Day pack\n 	Lunch + Snacks\n 	WATER! (2L minimum!)
 \n 	Comfortable walking shoes\n 	Appropriate hiking clothes\n 	Sunscreen/h
 at\n 	Any personal medication you might normally carry with you\n\nPlease 
 let us know your level of general fitness and hiking experience in the com
 ments below. And last but not least\, if you’ve read all the info\, I’
 d love to know your favourite sea creature.\n\nOnce you have been accepted
  to this trip\, you’ll be added to a Messenger group chat so we can orga
 nise carpooling. Make sure to link your Facebook profile in settings\, or 
 in the comment and check your message requests.\n\nIf you have any questio
 ns\, feel free to contact me via facebook messenger (https://www.facebook.
 com/amelia.vas.520/)
CATEGORIES:Bushwalking
LOCATION:https://goo.gl/maps/kjfxRniTK7Wbtdup8
END:VEVENT
BEGIN:VTIMEZONE
TZID:Australia/Sydney
X-LIC-LOCATION:Australia/Sydney
BEGIN:STANDARD
DTSTART:20230402T020000
TZOFFSETFROM:+1100
TZOFFSETTO:+1000
TZNAME:AEST
END:STANDARD
END:VTIMEZONE
END:VCALENDAR