BEGIN:VCALENDAR
VERSION:2.0
PRODID:-//wp-events-plugin.com//7.2.3.1//EN
TZID:Australia/Sydney
X-WR-TIMEZONE:Australia/Sydney
BEGIN:VEVENT
UID:634@unswoc.org
DTSTART:20141101T223000Z
DTEND:20141102T053000Z
DTSTAMP:20141022T154102Z
URL:https://unswoc.org/wordpress/events/bulahdelah-sunday-climbing/
SUMMARY:Boree Log - Bulahdelah Sunday Climbing
DESCRIPTION:\n\n&nbsp\;\n\nBulahdelah isn't like the Blue Mountains. The ro
 ck is different. It's way hard and way different shapes to what you find. 
 It's not vertical walls with small holds\, there are weird shapes everywhe
 re.\n\nSo the Sunday of Boree Log\, UNSWOC is headed to the land of the "d
 own-undercling\," Bulahdelah.\n\nWe will be hanging out \, mostly from kne
 e bars\, and trying out this volcanic rock stuff. Also\, listen the the ad
 vice and bring a roll of tape\, the holds can be sharp. except when they'r
 e sloping!\n\nThere is heaps of climbing on offer\, lots of it bolted low 
 to mid grade sport routes!\n\nAll are welcome and its only a short detour 
 on the way home. We will all park together and then split up by experience
  and head to different areas. If you haven't climbed outdoors before don't
  worry cause there will be a spot for you on the trip as well! We will hav
 e top ropes setup near the car park for you guys to try it.\n\nFor More In
 fo\, The Crag Reads:\n\nhttp://www.thecrag.com/climbing/australia/bulahdel
 ah\n\nBring loads of tape. The rock here is as hard as nails... and as sha
 rp as them too. Loads of climbing to be had in all different styles. Almos
 t every pinnacle\, buttress and wall has been bolted and there are loads o
 f quality climbs to test yourself on.\n\nThe rock can feel quite soapy and
  can be a bit difficult to read causing climbers to look like they are "wa
 shing windows" looking for holds.\n\n
CATEGORIES:Boree Log,Outdoor Climbing
LOCATION:Bulahdelah\, Mckenzie St\, Bulahdelah\, Australia
GEO:-32.413155;152.213699
X-APPLE-STRUCTURED-LOCATION;VALUE=URI;X-ADDRESS=Mckenzie St\, Bulahdelah\, 
 Australia;X-APPLE-RADIUS=100;X-TITLE=Bulahdelah:geo:-32.413155,152.213699
END:VEVENT
END:VCALENDAR