BEGIN:VCALENDAR
VERSION:2.0
PRODID:-//wp-events-plugin.com//7.2.3.1//EN
TZID:Australia/Sydney
X-WR-TIMEZONE:Australia/Sydney
BEGIN:VEVENT
UID:2052@unswoc.org
DTSTART:20160826T050000Z
DTEND:20160828T050000Z
DTSTAMP:20160819T014844Z
URL:https://unswoc.org/wordpress/events/bulahdelah-mongo-brush-kayak-exped
 ition/
SUMMARY:Bulahdelah to Mongo Brush Kayak Expedition
DESCRIPTION:Like a hike\, but with your arms.\n\nCome displace some water a
 nd harness the beautiful force of buoyancy!\n\nWe will drive up to Bulahde
 lah on friday night (leave sydney around 5pm)\, and set out on saturday mo
 rning\, then spend saturday night camping on the mouth of the Super Myall 
 river. On sunday we will explore more in Myall Lakes national park. We wil
 l be home on sunday evening.\n\nThings you need:\n\nIn a dry pack (or doub
 le bin bag):\n\n	tent\n	sleeping bag/mat\n	thermals/warm clothes\n	waterpr
 oof jacket (optional)\n	headtorch\n\nOther:\n\n	min. 10L water or a water 
 filtration/treatment system\n	food for 2 days\n	food cooking device\n	chai
  tea\n\nKayaking things (provided by us):\n\n	kayak\n	spray skirt\n	PFD\n	
 paddle\n	pump\n\nSpaces are currently limited by kayaks and roof racks\, 
 but please pm me (fb: mac labine-romain) or aidan if you would like to com
 e along and have both a car and a sea kayak!\n\n&nbsp\;
CATEGORIES:Flat Water Kayaking
END:VEVENT
END:VCALENDAR