BEGIN:VCALENDAR
VERSION:2.0
PRODID:-//wp-events-plugin.com//7.2.3.1//EN
TZID:Australia/Sydney
X-WR-TIMEZONE:Australia/Sydney
BEGIN:VEVENT
UID:320@unswoc.org
DTSTART:20131121T130000Z
DTEND:20131130T130000Z
DTSTAMP:20131121T164251Z
URL:https://unswoc.org/wordpress/events/buffalo-soldiers/
SUMMARY:Buffalo Soldiers
DESCRIPTION:Sam\, Ro and James will be battling Big Walls in Buffalo. \n\nT
 hat right kids\, no more Virgin Portaledge. 
ATTACH;FMTTYPE=image/jpeg:https://unswoc.org/wordpress/wp-content/uploads/
 2013/11/P9Belay.jpg
CATEGORIES:Outdoor Climbing
END:VEVENT
END:VCALENDAR