BEGIN:VCALENDAR
VERSION:2.0
PRODID:-//wp-events-plugin.com//7.2.3.1//EN
TZID:Australia/Sydney
X-WR-TIMEZONE:Australia/Sydney
BEGIN:VEVENT
UID:2319@unswoc.org
DTSTART:20181021T003000Z
DTEND:20181021T060000Z
DTSTAMP:20181019T000529Z
URL:https://unswoc.org/wordpress/events/brunch-bouldering/
SUMMARY:Brunch and Bouldering
DESCRIPTION:This week's bad weather bouldering will be at Nomad on Sunday! 
 The plan is to meet at the peanut butter bar in Leichart at 11.30am\, get 
 some Brunch and then walk over to Nomad for some bouldering. Let me know i
 f you'd like to join and how you plan to get there.\n\nIf you're allergic 
 to peanuts\, meet us at Nomad around 2pm :)\n\nWhat to bring:\n\n 	An appe
 tite\n 	Climbing shoes (can be hired there)\n 	Chalk\n 	Water\n\nFurther d
 etails of the gym can be found here: http://www.nomadbouldering.com\n\nGe
 t keen and see you there\n\nJenny
ATTACH;FMTTYPE=image/jpeg:https://unswoc.org/wordpress/wp-content/uploads/
 2018/02/100b62624d7e7025bc051f90632803d487fc95b6.jpg
CATEGORIES:Bouldering,Social Event
END:VEVENT
END:VCALENDAR