BEGIN:VCALENDAR
VERSION:2.0
PRODID:-//wp-events-plugin.com//7.2.3.1//EN
TZID:Australia/Sydney
X-WR-TIMEZONE:Australia/Sydney
BEGIN:VEVENT
UID:832@unswoc.org
DTSTART:20150424T060000Z
DTEND:20150426T060000Z
DTSTAMP:20150419T050644Z
URL:https://unswoc.org/wordpress/events/broughton-island/
SUMMARY:Broughton island
DESCRIPTION:Hi\, i'm organising a camping weekend on an island off the coas
 t north of Newcastle.  There's native frogs that live on the island\, mig
 rating mutton birds\, and penguins that come in at sunset.  Its up to you
  what you want to do\, go snorkelling\, exploring or sit on a beach with a
  book.\n\nWe'll drive up friday evening to Nelson bay and take the boat ea
 rly the next morning.  Because i've organised a group booking it keeps th
 e costs down\, $60 including the boat and camping permits. (friday evening
  is separate\, but will probably be camping in a caravan park at nelson ba
 y).  If we're short on cars i'll have to give priority to people who can 
 drive.\n\nYou can email me if you have any questions.\n\n:)\n\n&nbsp\;\n\n
 A
ATTACH;FMTTYPE=image/jpeg:https://unswoc.org/wordpress/wp-content/uploads/
 2015/04/region-coffs-mid_north-001.jpg
CATEGORIES:Social Event
LOCATION:\, \, 
X-APPLE-STRUCTURED-LOCATION;VALUE=URI;X-ADDRESS=\, ;X-APPLE-RADIUS=100;X-TI
 TLE=:geo:0,0
END:VEVENT
END:VCALENDAR