BEGIN:VCALENDAR
VERSION:2.0
PRODID:-//wp-events-plugin.com//7.2.3.1//EN
TZID:Australia/Sydney
X-WR-TIMEZONE:Australia/Sydney
BEGIN:VEVENT
UID:3457@unswoc.org
DTSTART;TZID=Australia/Sydney;VALUE=DATE:20240728
DTEND;TZID=Australia/Sydney;VALUE=DATE:20240729
DTSTAMP:20240715T115439Z
URL:https://unswoc.org/wordpress/events/bp-sunday-intermediate-cave-explor
 ation/
SUMMARY:[BP] Sunday Intermediate - Cave Exploration
DESCRIPTION:\n\n\n\n\n\nSIGNUPS WILL OPEN UP AT 9PM MONDAY 15/07\n\nSign up
  for ONE Saturday and ONE Sunday trip. If you do not get accepted on yo
 ur first choice trip then you may sign up for a different one. (Same forma
 t as Boree Log!). You must be signed up to the main event to sign up to in
 dividual trips\n\n\n\n\n\n\n\nYou’ll never know what caves you could fin
 d. Come jump into a variety of holes with varying levels of difficulty and
  technicality. Expect climbing\, scrambling\, crawling\, squeezing and ver
 tical rope skills.\n\nThis will be an intermediate trip.\n\n\n\n\n\nWhat Y
 OU need:\n\n 	Helmet*\n 	Harness*\n 	Descender* - Inline (eg rap rack\, Pe
 tzl Stop) preferred*\n 	Chest Ascender*\n 	Hand Ascender*\n 	Safety Sling*
  (x3 if you don't have a chest harness and foot loop)\n 	Prusiks*\n 	At le
 ast 6 locking carabiners*\n 	Headlight and spare batteries\n 	Spare light 
 source + spare batteries (a malfunction of primary light would be quite in
 convenient)\n 	Shoes you're not afraid to get muddy / dirty\n 	Thermal top
  &amp\; thermal bottoms\n 	Small bottle of water\n 	Personal medications (
 epipen\, inhaler etc)\n 	Dry bag\n 	Snacks / small lunch\n 	Old shirt / pa
 nts / overalls you can wear inside the cave\n 	Small backpack to carry you
 r things\n 	Gloves (eg gardening gloves) - optional\n 	Soft knee pads - op
 tional\n\n*These can be borrowed from the club on the morning of\n\n\n\nTh
 is is an intermediate caving trip\, where prior vertical rope skills is pr
 eferred! When signing up for this trip\, please make sure to include a) an
 y previous abseiling and ascending experience\, and b) what gear you will 
 need to borrow and c) which caves you want to explore!
ATTACH;FMTTYPE=image/jpeg:https://unswoc.org/wordpress/wp-content/uploads/
 2024/07/449980330_10225937656570861_2456635447335657423_n.jpg
CATEGORIES:Caving
LOCATION:https://g.co/kgs/KAPVV9D
END:VEVENT
BEGIN:VTIMEZONE
TZID:Australia/Sydney
X-LIC-LOCATION:Australia/Sydney
BEGIN:STANDARD
DTSTART:20240407T020000
TZOFFSETFROM:+1100
TZOFFSETTO:+1000
TZNAME:AEST
END:STANDARD
END:VTIMEZONE
END:VCALENDAR