BEGIN:VCALENDAR
VERSION:2.0
PRODID:-//wp-events-plugin.com//7.2.3.1//EN
TZID:Australia/Sydney
X-WR-TIMEZONE:Australia/Sydney
BEGIN:VEVENT
UID:3452@unswoc.org
DTSTART;TZID=Australia/Sydney;VALUE=DATE:20240728
DTEND;TZID=Australia/Sydney;VALUE=DATE:20240729
DTSTAMP:20240716T112618Z
URL:https://unswoc.org/wordpress/events/bp-sunday-intermediate-blowfly-cav
 e/
SUMMARY:[BP] SUNDAY Intermediate - Blowfly Cave FULL
DESCRIPTION:\n\n\n\n\n\nSIGNUPS WILL OPEN UP AT 9PM MONDAY 15/07\n\n&nbsp\;
 \n\nSign up for ONE Saturday and ONE Sunday trip. If you do not get acc
 epted on your first choice trip then you may sign up for a different one. 
 (Same format as Boree Log!). You must be signed up to the main event to si
 gn up to individual trips\n\n\n\n\n\n\n\n\n"A good technical cave with hid
 den adventures"\nThis cave starts off with a two stage abseil\, before the
  real adventure begins! Slide your kneepads on and get ready for some craw
 ling\, chimneying and scrambling. After a low crawl at the bottom of the s
 haft and below some boulders\, you'll be able to stand up again in a narro
 w rift. From there\, the way up is via the hole in the wall known as The K
 idney Squeeze\, followed by a climb up to the Dragons Teeth. The Dragons T
 eeth is an broad\, sloped flattener\, with multiple ridges that are sure t
 o give your spine a nice back massage\, they end abruptly with a drop into
  a large chamber perfect for lunch and an explore. This is the halfway poi
 nt as the exit will be back the same way you came!\n\n\n\n\n\nWhat YOU nee
 d:\n\n 	Helmet*\n 	Harness*\n 	Descender* - Inline (eg rap rack\, Petzl St
 op) preferred*\n 	Chest Ascender*\n 	Hand Ascender*\n 	Safety Sling* (x3 i
 f you don't have a chest harness and foot loop)\n 	Prusiks*\n 	At least 6 
 locking carabiners*\n 	Headlight and spare batteries\n 	Spare light source
  + spare batteries (a malfunction of primary light would be quite inconven
 ient)\n 	Shoes you're not afraid to get muddy / dirty\n 	Thermal top &amp\
 ; thermal bottoms\n 	Small bottle of water\n 	Personal medications (epipen
 \, inhaler etc)\n 	Dry bag\n 	Snacks / small lunch\n 	Old shirt / pants / 
 overalls you can wear inside the cave\n 	Small backpack to carry your thin
 gs\n 	Gloves (eg gardening gloves) - optional\n 	Soft knee pads - optional
 \n\n*These can be borrowed from the club on the morning of\n\n\n\nBlowfly 
 is an intermediate caving trip\, where prior vertical rope skills is prefe
 rred! When signing up for this trip\, please make sure to include a) any p
 revious abseiling / ascending and caving experience\, and b) what gear you
  will need to borrow and c) what your favourite snack is!
ATTACH;FMTTYPE=image/jpeg:https://unswoc.org/wordpress/wp-content/uploads/
 2023/10/384560940_308046842178440_1643816764592104817_n-1-scaled.jpg
CATEGORIES:Caving
LOCATION:https://g.co/kgs/KAPVV9D
END:VEVENT
BEGIN:VTIMEZONE
TZID:Australia/Sydney
X-LIC-LOCATION:Australia/Sydney
BEGIN:STANDARD
DTSTART:20240407T020000
TZOFFSETFROM:+1100
TZOFFSETTO:+1000
TZNAME:AEST
END:STANDARD
END:VTIMEZONE
END:VCALENDAR