BEGIN:VCALENDAR
VERSION:2.0
PRODID:-//wp-events-plugin.com//7.2.3.1//EN
TZID:Australia/Sydney
X-WR-TIMEZONE:Australia/Sydney
BEGIN:VEVENT
UID:3451@unswoc.org
DTSTART;TZID=Australia/Sydney;VALUE=DATE:20240728
DTEND;TZID=Australia/Sydney;VALUE=DATE:20240729
DTSTAMP:20240723T112339Z
URL:https://unswoc.org/wordpress/events/bp-sunday-intermediate-acoustic-po
 t-cave/
SUMMARY:[BP] SUNDAY Intermediate – Acoustic Pot Cave [FULL]
DESCRIPTION:\n\n\n\n\n\nSIGNUPS WILL OPEN UP AT 9PM MONDAY 15/07\n\n&nbsp\;
 \n\nSign up for ONE Saturday and ONE Sunday trip. If you do not get acc
 epted on your first choice trip then you may sign up for a different one. 
 (Same format as Boree Log!). You must be signed up to the main event to si
 gn up to individual trips\n\n\n\n\n\n\n\nVenture into Acoustic Pot if you 
 are looking for the best acoustics in town\, where a short crawl will brin
 g you to a wide cylindrical shaft\, as if someone had used a giant apple c
 orer in the ground. You'll descend down this 30m pitch\, before going for 
 a scramble down a vadose canyon and then a quick explore in the over-under
  squeeze and the flattener. Return to the bottom of the pitch for a quick 
 snack\, before tackling the ascent out of the abyss.\n\n\n\n\n\nWhat YOU n
 eed:\n\n 	Helmet*\n 	Harness*\n 	Descender* - Inline (eg rap rack\, Petzl 
 Stop) preferred*\n 	Chest Ascender*\n 	Hand Ascender*\n 	Safety Sling* (x3
  if you don't have a chest harness and foot loop)\n 	Prusiks*\n 	At least 
 6 locking carabiners*\n 	Headlight and spare batteries\n 	Spare light sour
 ce + spare batteries (a malfunction of primary light would be quite inconv
 enient)\n 	Shoes you're not afraid to get muddy / dirty\n 	Thermal top &am
 p\; thermal bottoms\n 	Small bottle of water\n 	Personal medications (epip
 en\, inhaler etc)\n 	Dry bag\n 	Snacks / small lunch\n 	Old shirt / pants 
 / overalls you can wear inside the cave\n 	Small backpack to carry your th
 ings\n 	Gloves (eg gardening gloves) - optional\n 	Soft knee pads - option
 al\n\n*These can be borrowed from the club on the morning of\n\n\n\nAcoust
 ic Pot is an intermediate caving trip\, where prior vertical rope skills i
 s preferred! When signing up for this trip\, please make sure to include a
 ) any previous abseiling and ascending experience\, and b) what gear you w
 ill need to borrow and c) what your favourite snack is!
ATTACH;FMTTYPE=image/jpeg:https://unswoc.org/wordpress/wp-content/uploads/
 2024/07/449980330_10225937656570861_2456635447335657423_n.jpg
CATEGORIES:Caving
LOCATION:https://g.co/kgs/KAPVV9D
END:VEVENT
BEGIN:VTIMEZONE
TZID:Australia/Sydney
X-LIC-LOCATION:Australia/Sydney
BEGIN:STANDARD
DTSTART:20240407T020000
TZOFFSETFROM:+1100
TZOFFSETTO:+1000
TZNAME:AEST
END:STANDARD
END:VTIMEZONE
END:VCALENDAR