BEGIN:VCALENDAR
VERSION:2.0
PRODID:-//wp-events-plugin.com//7.2.3.1//EN
TZID:Australia/Sydney
X-WR-TIMEZONE:Australia/Sydney
BEGIN:VEVENT
UID:3443@unswoc.org
DTSTART;TZID=Australia/Sydney;VALUE=DATE:20240728
DTEND;TZID=Australia/Sydney;VALUE=DATE:20240729
DTSTAMP:20240715T115457Z
URL:https://unswoc.org/wordpress/events/bp-sunday-ecological-bushwalk/
SUMMARY:[BP] SUNDAY - Ecological Bushwalk
DESCRIPTION:\n\n\n\nSIGNUPS WILL OPEN UP AT 9PM MONDAY 15/07\n\nSign up for
  ONE Saturday and ONE Sunday trip. If you do not get accepted on your firs
 t choice trip then you may sign up for a different one. (Same format as Bo
 ree Log!). You must be signed up to the main event to sign up to individua
 l trips\n\n\n\n\n\nWe will be leading a ecological bushwalk through the tr
 ails of Bungonia National Park! Max is a qualified bush regenerator and li
 cenced fungi collector. This will be a speed-ignorant walk aimed at spotti
 ng wildlife in the area\, and provided he can secure permits\, collecting 
 a fungi spread for identification and research at the NSW herbarium. Highl
 y recommended if you want a chill day\, are hungover and/or hate going fas
 t.\n\nBring cameras\, magnifying glasses\, watercolours and a field guide 
 if you have one. You might learn a few things and you might teach some too
 . If we're lucky\, there's orchids\, echidnas\, quolls\, wombats\, gliders
  and bats abound. Come get curious!\n\n\nWhat you need:\n\n\n 	Sturdy\, co
 mfortable shoes or hiking boots\n 	Backpack to hold your stuff\n 	Appropri
 ate hiking clothes\n 	Hat\n 	Rain jacket\n 	Warm clothes\n 	Lunch and snac
 ks\n 	Water\n 	Headtorch\n 	Any personal medication you might normally car
 ry with you\n\n\n\n\n
CATEGORIES:Bushwalking
LOCATION:https://g.co/kgs/KAPVV9D
END:VEVENT
BEGIN:VTIMEZONE
TZID:Australia/Sydney
X-LIC-LOCATION:Australia/Sydney
BEGIN:STANDARD
DTSTART:20240407T020000
TZOFFSETFROM:+1100
TZOFFSETTO:+1000
TZNAME:AEST
END:STANDARD
END:VTIMEZONE
END:VCALENDAR