BEGIN:VCALENDAR
VERSION:2.0
PRODID:-//wp-events-plugin.com//7.2.3.1//EN
TZID:Australia/Sydney
X-WR-TIMEZONE:Australia/Sydney
BEGIN:VEVENT
UID:3456@unswoc.org
DTSTART;TZID=Australia/Sydney;VALUE=DATE:20240727
DTEND;TZID=Australia/Sydney;VALUE=DATE:20240728
DTSTAMP:20240722T084710Z
URL:https://unswoc.org/wordpress/events/bp-saturday-intermediate-cave-expl
 oration/
SUMMARY:[BP] SATURDAY Intermediate - Cave Exploration
DESCRIPTION:\n\n\n\n\n\n 	SIGNUPS WILL OPEN UP AT 9PM MONDAY 15/07\n\nSign 
 up for ONE Saturday and ONE Sunday trip. If you do not get accepted on 
 your first choice trip then you may sign up for a different one. (Same for
 mat as Boree Log!). You must be signed up to the main event to sign up to 
 individual trips\n\n\n\n\n\n\n\nYou’ll never know what caves you could f
 ind. Come jump into a variety of holes with varying levels of difficulty a
 nd technicality. Expect climbing\, scrambling\, crawling\, squeezing and v
 ertical rope skills.\n\nThis will be an intermediate trip.\n\n\n\n\n\nWhat
  YOU need:\n\n 	Helmet*\n 	Harness*\n 	Descender* - Inline (eg rap rack\, 
 Petzl Stop) preferred*\n 	Chest Ascender*\n 	Hand Ascender*\n 	Safety Slin
 g* (x3 if you don't have a chest harness and foot loop)\n 	Prusiks*\n 	At 
 least 6 locking carabiners*\n 	Headlight and spare batteries\n 	Spare ligh
 t source + spare batteries (a malfunction of primary light would be quite 
 inconvenient)\n 	Shoes you're not afraid to get muddy / dirty\n 	Thermal t
 op &amp\; thermal bottoms\n 	Small bottle of water\n 	Personal medications
  (epipen\, inhaler etc)\n 	Dry bag\n 	Snacks / small lunch\n 	Old shirt / 
 pants / overalls you can wear inside the cave\n 	Small backpack to carry y
 our things\n 	Gloves (eg gardening gloves) - optional\n 	Soft knee pads - 
 optional\n\n*These can be borrowed from the club on the morning of\n\n\n\n
 This is an intermediate caving trip\, where prior vertical rope skills is 
 preferred! When signing up for this trip\, please make sure to include a) 
 any previous abseiling and ascending experience\, and b) what gear you wil
 l need to borrow and c) which caves you want to explore!
ATTACH;FMTTYPE=image/jpeg:https://unswoc.org/wordpress/wp-content/uploads/
 2024/07/449980330_10225937656570861_2456635447335657423_n.jpg
CATEGORIES:Caving
LOCATION:https://g.co/kgs/KAPVV9D
END:VEVENT
BEGIN:VTIMEZONE
TZID:Australia/Sydney
X-LIC-LOCATION:Australia/Sydney
BEGIN:STANDARD
DTSTART:20240407T020000
TZOFFSETFROM:+1100
TZOFFSETTO:+1000
TZNAME:AEST
END:STANDARD
END:VTIMEZONE
END:VCALENDAR